BEGIN:VCALENDAR
VERSION:2.0
X-WR-TIMEZONE:Europe/Paris
PRODID:-//Audencia//NONSGML v1.0//EN
CALSCALE:GREGORIAN
BEGIN:VEVENT
SUMMARY:l'avenir du métier de producteur dans le spectacle vivant : une concentration irrémédiable ?
DTSTART:20170425T190000
DTEND:20170425T210000
UID:20
DTSTAMP:20260421T131828
LOCATION:Fondation d'entreprise Ricard - 12 Rue Boissy d'Anglas, 75008 Paris
DESCRIPTION:ATTENTION : événement payant! Inscriptions sur: https://www.culture-et-management.com/debats/l-avenir-du-metier-de-producteur-dans-le-spectacle-vivant-une-concentration-irremediable.html \n\nRappel Inscriptions/ Adhésions sur Culture & Management (C&M) :   \n - Inscription : GRATUIT pour tous les membres du réseau Audencia Business School. Cela donne accès à :\n   --> toutes les offres de STAGE\n   --> l'annuaire du réseau C&M\n   --> Les évènements sont alors payants : 10€ pour les étudiants et les demandeurs d'emploi / Tarif plein: 25€  \n\n - Adhésion : 80€ pour 12 mois consécutifs. Cela donne accès à :\n   --> toutes les offres d'EMPLOI\n   --> tous les évènements  : 10 évènements par an, thématisés entre conférences, concours de start-ups et events meet-and-greet.\n\nCONFERENCE : La crise, la baisse des recettes de mécénat et des subventions publiques ont entraîné une forte concentration du secteur de la production du spectacle vivant ces dernières années. Allant même au-delà de la stricte concentration, les acteurs historiques ont intégré les différents métiers de la chaîne dans des structures uniques (de l'agence artistique, à la diffusion via l'achat de salles, en passant par la production des spectacles).\n\nNous étudierons les expériences passées et récentes de producteurs privés que nous confronterons à la vision d'un directeur de production d'une institution de spectacle vivant.Il y-a-il de la place pour de nouveaux entrants sur ce marché ? Quel avenir le métier de producteur offre-t-il aujourd'hui ?Le spectacle vivant semble emprunter la voie du secteur de la musique et du disque...Modérateurs\n \n\n\n	Laure MERCATELLO\n	Théâtre du Châtelet/DAF, Responsable Spectacle Vivant c&m\n
BEGIN:VALARM
ACTION:DISPLAY
TRIGGER:-PT60M
DESCRIPTION:l'avenir du métier de producteur dans le spectacle vivant : une concentration irrémédiable ?
END:VALARM
END:VEVENT
END:VCALENDAR