BEGIN:VCALENDAR
VERSION:2.0
X-WR-TIMEZONE:Europe/Paris
PRODID:-//Audencia//NONSGML v1.0//EN
CALSCALE:GREGORIAN
BEGIN:VEVENT
SUMMARY:Soirée inter-Grandes Écoles : En quoi l’intelligence artificielle va-t-elle bouleverser le monde ?
DTSTART:20190411T183000
DTEND:20190411T230000
UID:208
DTSTAMP:20260423T190236
LOCATION:Kedge Business School Campus Talence 680, cours de la Libération - 33405 Talence
DESCRIPTION:    \n\nCONFERENCE-DEBAT\nprès de Bordeaux\n\n \n\nINSCRIVEZ-VOUS AVANT LE 31 MARS EN CLIQUANT ICI\n(Inscription obligatoire - tarif unique : 25€)\n\n\n\nLes réseaux Alumni d'AUDENCIA, EDHEC, EM Lyon, ESCP, ESSEC, HEC, NEOMA et KEDGE Business School vous convient à la 4ème soirée Alumni inter-Grandes Ecoles sur le thème : En quoi l’intelligence artificielle va-t-elle bouleverser le monde ?​\nUne occasion unique de favoriser les échanges et d'élargir votre réseau !\n \n\n\n\n\n\n\nAu programme de la soirée :\n\n\n	18h30 : Accueil -  Mot d'accueil par José Milano, Directeur Général de KEDGE\n	19h00 : Conférence - Animée par Renaud Champion, Director of Emerging Intelligences à l'EM Lyon \n	 20h00 : Cocktail - Moment convivial pour échanger entre participants \n\n\n\n\n 
BEGIN:VALARM
ACTION:DISPLAY
TRIGGER:-PT60M
DESCRIPTION:Soirée inter-Grandes Écoles : En quoi l’intelligence artificielle va-t-elle bouleverser le monde ?
END:VALARM
END:VEVENT
END:VCALENDAR