BEGIN:VCALENDAR
VERSION:2.0
X-WR-TIMEZONE:Europe/Paris
PRODID:-//Audencia//NONSGML v1.0//EN
CALSCALE:GREGORIAN
BEGIN:VEVENT
SUMMARY:POSTPONED! Audencia Alumni Around the World in Munich, Germany
DTSTART:20200319T190000
DTEND:20200319T220000
UID:265
DTSTAMP:20260425T183937
LOCATION:cafeneuhauser.de Corneliusstraße 2  80469 München
DESCRIPTION:The Munich stopover of Around the World has been postponed.\n\nAs soon as we know more about the new date for this event, we will share the details with you.\n \n\nBonjour à tous,\n\nDans le cadre de Audencia around the world, Uwe Supper nous fera l'honneur de sa visite à Munich pour un afterwork au Neuhauser près de Gärtnerplatz.\n\nInscrivez-vous vite et faites passer le mot aux nouveaux arrivants!\n\nPour toute question concernant cet événement, vous pouvez contacter Anne-Lucie Lemonnier.\n\nA bientôt,\nAmandine & Anne-Lucie\n \n\nTo discover which other cities are hosting an Around the World event, click on the image below\n \n
BEGIN:VALARM
ACTION:DISPLAY
TRIGGER:-PT60M
DESCRIPTION:POSTPONED! Audencia Alumni Around the World in Munich, Germany
END:VALARM
END:VEVENT
END:VCALENDAR