BEGIN:VCALENDAR
VERSION:2.0
X-WR-TIMEZONE:Europe/Paris
PRODID:-//Audencia//NONSGML v1.0//EN
CALSCALE:GREGORIAN
BEGIN:VEVENT
SUMMARY:POSTPONED! Audencia Alumni Around the World in Geneva, Switzerland
DTSTART:20200317T183000
DTEND:20200317T230000
UID:267
DTSTAMP:20260425T183937
LOCATION:Jules Verne Café Rue Jean-Violette 20 1205 Genève Switzerland
DESCRIPTION:\n \n\nThe Geneva stopover of Around the World has been postponed.\n\n\nAs soon as we know more about the new date for this event, we will share the details with you.​\n\n\nWe are back for this unique world wild event ! \nHow did you decide to dare last time you checked ? \n\n\n\nCome and join Alumni and friends at the Jules Verne Café from 18:30 on 17 March!\n\nOn the programme:\n\n18:30-18:45 Participants arrive\n18:45-19:00 Welcome message from Rodolphe and introductions\n19:00-19:30 Alexis Dusanter (GE 07) presents Bocoloco followed by Q&A\n19:30-20:15 Open discussion with Françoise Marcus, Audencia's Director of Corporate & Alumni relations.\n\nSee you there!\nThe Lake Leman team\n \n\n\nTo discover which cities are hosting an Around the World event, click on the image below\n \n
BEGIN:VALARM
ACTION:DISPLAY
TRIGGER:-PT60M
DESCRIPTION:POSTPONED! Audencia Alumni Around the World in Geneva, Switzerland
END:VALARM
END:VEVENT
END:VCALENDAR