BEGIN:VCALENDAR
VERSION:2.0
X-WR-TIMEZONE:Europe/Paris
PRODID:-//Audencia//NONSGML v1.0//EN
CALSCALE:GREGORIAN
BEGIN:VEVENT
SUMMARY:AfterCovid - Qafé Guidoline
DTSTART:20200701T190000
DTEND:20200701T230000
UID:270
DTSTAMP:20260426T001436
LOCATION:Qafe Guidoline Rue des Pâquis 24 Genève
DESCRIPTION:AFTERWORK / AFTERCOVID\nRdv le mercredi 1er juillet à partir de 19h au Qafé Guidoline - Rue des Pâquis, 24 - Genève\nEt pourquoi pas avec un maillot de bain pour se rafraichir?\nwww.qafeguidoline.ch
BEGIN:VALARM
ACTION:DISPLAY
TRIGGER:-PT60M
DESCRIPTION:AfterCovid - Qafé Guidoline
END:VALARM
END:VEVENT
END:VCALENDAR