BEGIN:VCALENDAR
VERSION:2.0
X-WR-TIMEZONE:Europe/Paris
PRODID:-//Audencia//NONSGML v1.0//EN
CALSCALE:GREGORIAN
BEGIN:VEVENT
SUMMARY:Afterwork de Navidad
DTSTART:20211215T190000
DTEND:20211215T210000
UID:289
DTSTAMP:20260424T025129
LOCATION:Carrer del Bruc 80, 08009 Barcelona
DESCRIPTION:Save the date!\n\nAfterwork de Navidad por los alumni de Audencia el miércoles 15 de diciembre con vino caliente especiado y otras cosas para la temporada de frío en Barcelona...\n\n¡Hasta pronto!\n\nTristan & Louis
BEGIN:VALARM
ACTION:DISPLAY
TRIGGER:-PT60M
DESCRIPTION:Afterwork de Navidad
END:VALARM
END:VEVENT
END:VCALENDAR