BEGIN:VCALENDAR
VERSION:2.0
X-WR-TIMEZONE:Europe/Paris
PRODID:-//Audencia//NONSGML v1.0//EN
CALSCALE:GREGORIAN
BEGIN:VEVENT
SUMMARY:Alumni Around The World 2022 in Geneva
DTSTART:20220323T183000
DTEND:20220323T230000
UID:296
DTSTAMP:20260426T001338
LOCATION:Bain des Paquis
DESCRIPTION:AUDENCIA AROUND THE WORLD 2022 EDITION\n\nA Genève, nous allons vous proposer une activite qui va vous challenger... au sein des eaux de notre cher Lac Léman… pour un vertige de la nage nocturne en groupe !\nNous vous donnons donc rendez-vous aux Bains des Pâquis pour une baignade nocturne organisée par l'équipe des Bains.\nVêtus de bonnets et de draps de bains à l’effigie d’Audencia nous vous attendons nombreux.ses pour relever ce défi ! Ensuite, une table a été réservée au nom de Mélina au restaurant pour se retrouver autour d'une bonne fondue.\n\nRéservations obligatoires !\n\nPS : pensez à ramener des vetements chauds, du cash (le bain des paquis ne prenant pas la carte bleue) surtout si vous souhaitez profiter d'une douche chaude et/ou du sauna.\n \n\n“Audencia Around the World” will begin on 17 March, and will travel to cities on all five continents for a full month before coming to a close on 18 April. This event is for alumni and students who are currently living and working in different cities worldwide.\n\nIn 2022, for its fourth edition, Audencians around the world will embark on a slightly different journey. With a nod to the School's motto “never stop daring”, alumni ambassadors have been creative, inventive and resourceful in devising daring challenges across the globe. Your challenge, should you choose to accept it, is to join them for a daring activity.\n\n\nDiscover what else is happening for Around the World 2022:\n\n\n \n\n\nIf you can’t find an event taking place near you, drop us a line and we’ll help you set one up! Depending on the health restrictions in your city/country, your chosen activity may be in a group or on your own.
BEGIN:VALARM
ACTION:DISPLAY
TRIGGER:-PT60M
DESCRIPTION:Alumni Around The World 2022 in Geneva
END:VALARM
END:VEVENT
END:VCALENDAR