BEGIN:VCALENDAR
VERSION:2.0
X-WR-TIMEZONE:Europe/Paris
PRODID:-//Audencia//NONSGML v1.0//EN
CALSCALE:GREGORIAN
BEGIN:VEVENT
SUMMARY:Audencia Around The World in Amsterdam
DTSTART:20230329T180000
DTEND:20230329T220000
UID:344
DTSTAMP:20260421T103159
LOCATION:Westerpark, Amsterdam
DESCRIPTION:#Audencia_Worldwide\n\nAs part of the Audencia Around The World celebrations and the Dutch Landelijke Opschoondag, come have a good time with fellow Audencia Alumni, help save the world and make Amsterdam an even nicer place to live in by helping clean up the Westerpark on Wednesday 29 March at 18:00. Bags, gloves and tongs will be provided.\n\nOnce the clean-up is finished, Matthieu Vonthron and the team of alumni ambassadors would be pleased to meet with current students from the MS MCI & MS SDIDAM programmes who will be on their learning trip to Amsterdam. More details about the venue coming soon!\n\nDans le cadre des festivités Audencia Around The World et du Landelijke Opschoondag néerlandais, venez passer un bon moment avec vos anciens camarades d'Audencia, aidez à sauver le monde et participez à rendre Amsterdam encore plus agréable en aidant à nettoyer le Westerpark le mercredi 29 mars à 18h00. Sacs poubelle, gants et pinces seront fournis.\n \n\n\n\n\nAround the World events will begin on 24 March 2023 and travel to cities on all five continents. This event is for alumni and students who are currently living and working in different cities worldwide. For its fifth edition, Audencian ambassadors around the world are being creative, inventive and resourceful in devising activities for their alumni communities. Your challenge, should you choose to accept it, is to join them!\n\nDiscover what else is happening Around the World in 2023:\n\n \n\n\n\n\nIf you can’t find an event taking place near you, drop us a line and we’ll help you set one up!
BEGIN:VALARM
ACTION:DISPLAY
TRIGGER:-PT60M
DESCRIPTION:Audencia Around The World in Amsterdam
END:VALARM
END:VEVENT
END:VCALENDAR