BEGIN:VCALENDAR
VERSION:2.0
X-WR-TIMEZONE:Europe/Paris
PRODID:-//Audencia//NONSGML v1.0//EN
CALSCALE:GREGORIAN
BEGIN:VEVENT
SUMMARY:Soirée Interalumni - Création de l'interalumni : réflechissons ensemble à ce que l'on veut en faire !
DTSTART:20230329T190000
DTEND:20230329T210000
UID:349
DTSTAMP:20260421T121143
LOCATION:Siège Rhetorike, Le Mans
DESCRIPTION:Nous nous retrouverons mercredi 29 mars dans les locaux de Rhetorike pour une réunion interalumni avec les membres des Alumni HEC pour faire connaissance et discuter de :\n-  ce que nous attendons collectivement de cette interalumni ;\n-  du travail commun que nous pouvons faire pour "fertiliser" notre territoire.\n\nRendez-vous chez Rhetorike (41 rue Paul Courboulay au Mans). \n\nIl s'agit d'une soirée conviviale et informelle. Chacun peut apporter quelque-chose à boire ou à grignoter.\n\nN'hésitez pas à envoyer vos idées en amont à Aurélie : apecaud@rhetorike.fr\n\nA très vite.
BEGIN:VALARM
ACTION:DISPLAY
TRIGGER:-PT60M
DESCRIPTION:Soirée Interalumni - Création de l'interalumni : réflechissons ensemble à ce que l'on veut en faire !
END:VALARM
END:VEVENT
END:VCALENDAR