BEGIN:VCALENDAR
VERSION:2.0
X-WR-TIMEZONE:Europe/Paris
PRODID:-//Audencia//NONSGML v1.0//EN
CALSCALE:GREGORIAN
BEGIN:VEVENT
SUMMARY:Afterwork pour la rentrée 2023 !
DTSTART:20231002T190000
DTEND:20231002T220000
UID:371
DTSTAMP:20260421T105156
LOCATION:120 Rue Albert Unden, 2652 Limpertsberg Luxembourg
DESCRIPTION:/ Next alumni drinks Monday 2nd October - registration link to come//\n\nHi everyone,\n\nAfter a long break, I am happy to invite you for a drink and a skittle game at La Taperia in Limpertsberg under the advise of @Marc Labat.\n\nDate: 7PM on Monday, October 2nd\nPlace: 120 Rue Albert Unden, 2652 Limpertsberg Luxembourg
BEGIN:VALARM
ACTION:DISPLAY
TRIGGER:-PT60M
DESCRIPTION:Afterwork pour la rentrée 2023 !
END:VALARM
END:VEVENT
END:VCALENDAR