BEGIN:VCALENDAR
VERSION:2.0
X-WR-TIMEZONE:Europe/Paris
PRODID:-//Audencia//NONSGML v1.0//EN
CALSCALE:GREGORIAN
BEGIN:VEVENT
SUMMARY:SAVE THE DATE: Afterwork en presence de Uwe Supper
DTSTART:20231129T183000
DTEND:20231129T220000
UID:375
DTSTAMP:20260423T141646
LOCATION:TBC
DESCRIPTION:More information coming soon but please already save the date in your Agenda as we are thrilled to welcome Uwe to Geneva for an amazing afterwork
BEGIN:VALARM
ACTION:DISPLAY
TRIGGER:-PT60M
DESCRIPTION:SAVE THE DATE: Afterwork en presence de Uwe Supper
END:VALARM
END:VEVENT
END:VCALENDAR