BEGIN:VCALENDAR
VERSION:2.0
X-WR-TIMEZONE:Europe/Paris
PRODID:-//Audencia//NONSGML v1.0//EN
CALSCALE:GREGORIAN
BEGIN:VEVENT
SUMMARY:Webinar: Making the most of your AMBA membership
DTSTART:20210930T130000
DTEND:20210930T140000
UID:1062
DTSTAMP:20260425T122723
LOCATION:
DESCRIPTION:#MBA_Community\n\nBy joining AMBA, The Association of MBAs, you become part of an international, professionally diverse association of more than 50,000 members from across the globe. \n\nFrom those in their first week of study, to experienced senior business leaders, this buoyant network harnesses the collective expertise of the MBA community to share insights and thought leadership, create business networking opportunities and amplify the voice of MBAs all around the world. \n\nJoin Tariro Masukume, Membership Manager at AMBA and Ryan Cottell, Senior Customer Success Manager at Abintegro, the platform behind AMBA’s Career Development Centre, to find out how to make the most of your AMBA membership. \n \nREGISTER HERE\n\nDuring the session, Tariro and Ryan will discuss:\n•    What AMBA membership is, the range of benefits available to you and how to make the most of them \n•    The AMBA website and exclusive members’ content hub\n•    How to use the Abintegro Career Development Centre and map out practical steps to shape your career success\n \n
BEGIN:VALARM
ACTION:DISPLAY
TRIGGER:-PT60M
DESCRIPTION:Webinar: Making the most of your AMBA membership
END:VALARM
END:VEVENT
END:VCALENDAR