BEGIN:VCALENDAR
VERSION:2.0
X-WR-TIMEZONE:Europe/Paris
PRODID:-//Audencia//NONSGML v1.0//EN
CALSCALE:GREGORIAN
BEGIN:VEVENT
SUMMARY:Conférence Isegoria by #Mediacampus / Mercedes Erra
DTSTART:20211012T183000
DTEND:20211012T193000
UID:1068
DTSTAMP:20260426T025747
LOCATION:
DESCRIPTION:Nous avons le plaisir de vous inviter à notre premier rendez-vous de la saison 2021-2022 ; un nouveau cycle de conférences démarre pour l'équipe d'Isegoria by #Mediacampus composée d’étudiants du cycle master « communication et media » d’Audencia SciencesCom.\n \nPour l'occasion, nous recevons Mercedes Erra, Présidente et co-fondatrice de l'agence de publicité BETC, autour de la problématique : \nComment les communicants peuvent-ils contribuer à la lutte contre les inégalités femmes/hommes ?\n \n\nLa conférence aura lieu sur la chaîne Twitch Audencia TV.\n\n\n\nMercedes ERRA\nPrésidente du groupe Havas et de l’agence BETC, Mercedes Erra est également mère de cinq enfants et engagée pour les droits de la femme.\nArrivée en France à l’âge de 6 ans, la célèbre publicitaire a commencé sa carrière en tant que stagiaire chef de publicité. A force de travail, elle atteint la direction de l’entreprise, qu’elle quittera 5 ans plus tard pour co-fonder BETC. En 2000, elle devient Présidente de l’agence qui deviendra, en peu de temps, la première agence de publicité de France. Par la suite, elle prendra également la présidence du groupe Havas (2008) et de l’association des agences de conseils en communication (entre 2002 et 2003).\n\nFemme, businesswoman, mère de famille et féministe, ses prises de position engagées ont eu un écho tout particulier au sein de l’univers des médias et ont assurément participé à ses évolutions. Au sein de son entreprise elle met en place un mois de congé de paternité payé par l’entreprise, assure l’égalité salariale et instaure un quota de recrutement en faveur des hommes pour tendre vers une parité au niveau de la profession. Elle intègre, administre ou préside différentes organisations, comme la Fondation Elle « Pour l’éducation des filles et des femmes », la Commission sur l’image des femmes dans les médias ou encore le Women’s Forum for the Economy and Society, dont elle est co-fondatrice.\n\nLors de cette conférence Isegoria by Mediacampus, nous échangerons avec elle sur la place des femmes dans la communication d’un point de vue professionnel.\n\n\n 
BEGIN:VALARM
ACTION:DISPLAY
TRIGGER:-PT60M
DESCRIPTION:Conférence Isegoria by #Mediacampus / Mercedes Erra
END:VALARM
END:VEVENT
END:VCALENDAR