BEGIN:VCALENDAR
VERSION:2.0
X-WR-TIMEZONE:Europe/Paris
PRODID:-//Audencia//NONSGML v1.0//EN
CALSCALE:GREGORIAN
BEGIN:VEVENT
SUMMARY:Conférence IDxA « L'innovation au service d'un monde durable » et Soirée de fin d'année
DTSTART:20211209T193000
DTEND:20211209T233000
UID:1089
DTSTAMP:20260425T234200
LOCATION:L'Orangerie du Stade Roland Garros 2, Boulevard d’Auteuil  75016 Paris  (Entrée par le jardin des serres d’Auteuil face au 5 Boulevard d’Auteuil 75016 Paris)
DESCRIPTION:\n(English below)\n \nJusqu'à présent, les recherches sur la relation entre innovation et responsabilité sociale des entreprises analysent principalement la dimension stratégique de l'innovation environnementale, ou considèrent la responsabilité sociale des entreprises comme le promoteur de l'innovation, favorisant ainsi l'intégration de la performance économique. \nEst-ce des concepts frères ? \n \nAudencia Alumni vous invite à assister à une soirée-conférence IDxA (Inspiration & Daring) :\n\n« Il est important de mesurer et comprendre la valeur de l’interaction sociale pour innover. » – Jarmo Suominen (scientifique, MIT Media Lab, États-Unis) en ouverture de la journée, en regard des villes intelligentes et des principes de « City On Demand » et d’innovation.\n\nL'innovation au service d'un monde durable\n\nJeudi 9 décembre à 19h30\ndans l'environnement naturel et végétalisé de l'Orangerie du Stade Roland Garros (Paris 16) \n\n\nAvec nos diplômés engagés :\n\n\n\nLaureen Liagre (SciencesCom 2018), Entrepreneuse - Fondatrice de Mes Dames Mes Cieux\n\n\n\n\n\nRaphaël Gerson (GE 2002), Directeur Adjoint de l’ADEME (l’Agence de la Transition Ecologique) en Île-de-France\n\n\n​\n\nAlexis Dusanter (GE 2007), Entrepreneur - Co-fondateur & Président de Bocoloco\n\n  \n\n\n\n\nStefan Gallard (MBA 2013), Entrepreneur & Chief Marketing Officer chez Grain de Sail (à distance)\n\n\n\n\n\n\nNicolas Gumy (Bachelor 2018), Entrepreneur - Fondateur de Bloom Campers & Responsable du développement commercial et marketing chez Greenfib\n\n \n\nAnimée par :\n\n\n\n\n\nSharon Wajsbrot (GE 2014) journaliste au quotidien Les Echos en charge de la rubrique énergie du quotidien économique et spécialiste des sujets financiers\n\n \n\nsuivie d'un cocktail convivial pour réseauter et aussi fêter la fin d’année.\n \nRetrouvez-vous entre diplômés d’Audencia pour vivre une aventure XXL, avec une grande dose de convivialité, de festivité et plaisir partagé !\n \nAu plaisir de vous y retrouver,\nL’équipe Audencia Alumni\n\nInscription gratuite mais obligatoire \nConnectez-vous à votre compte pour vous inscrire\n\nQuestion ? : nushad.merchant@audencia.com\n \n\n\n \n\n\nVeuillez noter que le Pass Sanitaire est obligatoire pour accéder à l'événement. Chaque participant devra présenter son Pass Sanitaire qui consiste en la présentation, numérique ou papier, d'une preuve sanitaire dont voici la liste :\n\n\n	\n	La vaccination, à la condition de disposer d'un schéma vaccinal complet (les deux doses avec un délai de 7 jours après la deuxième injection)\n	\n	\n	La preuve d'un test PCR ou antigénique négatif de moins de 24h\n	\n	\n	Le résultat d'un test PCR positif (attestant du rétablissement du Covid-19) datant d'au moins 11 jours et de moins de 6 mois\n	\n\n\n\n\n**************\n\n“It is important to measure and understand the value of social interaction to innovate.” – Jarmo Suominen (scientist, MIT Media Lab, USA) opening the day, in relation to smart cities and the principles of “City On Demand” and innovation.\n\n \n\nUntil now, research on the relationship between innovation and corporate social responsibility has mainly analysed the strategic dimension of environmental innovation, or considered corporate social responsibility as the promoter of innovation, thus favouring the integration of economic performance. \nAre they sister concepts?\n\n\nAudencia Alumni invites you to attend a conference evening IDxA (Inspiration & Daring) :\n\n"Innovation for a sustainable world"\n\nThursday, December 9 at 7.30pm\nat Orangerie du Stade Roland Garros (Paris 16)\n\n \n\nWith our alumni:\n\n\n\n\n\nLaureen Liagre (SciencesCom 2018), Entrepreneur - Founder of Mes Dames Mes Cieux\n\n\n\n\n\n\n\nRaphaël Gerson (GE 2002), Deputy Director of ADEME (Agency for Ecological Transition) in Île-de-France\n\n\n\n\n\nAlexis Dusanter (GE 2007), Entrepreneur - Co-founder & President of Bocoloco\n\n  \n\n\n\n\nStefan Gallard (MBA 2013), Entrepreneur & Chief Marketing Officer at Grain de Sail (online)\n \n\n\n\n\n\n\nNicolas Gumy (Bachelor 2018), Entrepreneur - Founder of Bloom Campers & Business Development and Marketing Manager at Greenfib\n\n \n \n\nmoderated by:\n\n\n\n\n\nSharon Wajsbrot (GE 2014) journalist at Les Echos in charge of the energy section of the business daily and specialist in financial issues\n\n \n \n\nfollowed by a cocktail to network and celebrate the end of the year.\n\nThe conference will be conducted in French but we will ensure that you get the key messages and have an amazing time with other Audencia graduates.\n \nWe look forward to seeing you there,\nAudencia Alumni team\n\nRegistrations are free but compulsory\nConnect to your account to register\n\nQuestion?: nushad.merchant@audencia.com\n\n\n\n \n\nPlease note that the Health Pass is required to access the event.\n\nEach participant will have to present his or her Health Pass, which consists of the presentation, in digital or paper form, of a health proof, as follows:\n\n\n	Vaccination, provided that a complete vaccination schedule is available (both doses with a delay of 7 days after the second injection)\n	Proof of a negative PCR or antigen test less than 24 hours old\n	A positive PCR test result (showing recovery of Covid-19) at least 11 days old and less than 6 months old\n\n\n\n \n\n\n 
BEGIN:VALARM
ACTION:DISPLAY
TRIGGER:-PT60M
DESCRIPTION:Conférence IDxA « L'innovation au service d'un monde durable » et Soirée de fin d'année
END:VALARM
END:VEVENT
END:VCALENDAR