BEGIN:VCALENDAR
VERSION:2.0
X-WR-TIMEZONE:Europe/Paris
PRODID:-//Audencia//NONSGML v1.0//EN
CALSCALE:GREGORIAN
BEGIN:VEVENT
SUMMARY:Promo GE 2007... les 10 ans !
DTSTART:20171202T190000
DTEND:20260426T061149
UID:109
DTSTAMP:20260426T061149
LOCATION:2 rue du Dahomey 75011 Paris M° ligne 8 Faidherbe-Chaligny
DESCRIPTION:\n\nInscrivez-vous dès à présent...
BEGIN:VALARM
ACTION:DISPLAY
TRIGGER:-PT60M
DESCRIPTION:Promo GE 2007... les 10 ans !
END:VALARM
END:VEVENT
END:VCALENDAR