BEGIN:VCALENDAR
VERSION:2.0
X-WR-TIMEZONE:Europe/Paris
PRODID:-//Audencia//NONSGML v1.0//EN
CALSCALE:GREGORIAN
BEGIN:VEVENT
SUMMARY:Conférence d’Hubert de Boisredon, PDG du Groupe Armor
DTSTART:20211122T180000
DTEND:20211122T193000
UID:1098
DTSTAMP:20260419T144220
LOCATION:Le Campus by CA – Crédit Agricole Atlantique Vendée 140, route de Paris 44300 Nantes
DESCRIPTION:à l’occasion de la sortie de son livre « L’Esprit souffle, suis-le : itinéraire d’un dirigeant engagé ».\n \n\n \n\n \n\n>> INSCRIPTION ICI <<\n\n\nAprès des études à HEC, à New York et à Cologne, Hubert de Boisredon a créé en 1988 au Chili un établissement de microcrédit à destination des plus pauvres. Il a ensuite travaillé au Japon et à Hong Kong dans une multinationale de la chimie avant de prendre en 2004 la direction d’Armor, entreprise nantaise de 2000 personnes qu’il a hissée à la première place mondiale de son secteur. \n\nAlors que beaucoup s’interrogent sur le sens de leur activité professionnelle, Hubert de Boisredon répond de manière très personnelle dans son livre avec ses convictions et son expérience de dirigeant d’entreprise humaniste et engagé.\n \n\nDéroulé :\n\n\n	18.00 : Accueil des participants\n	18.30 : Mot d’accueil de Nicole Gourmelon, Directrice Générale du Crédit Agricole Atlantique Vendée\n	18.40 : Introduction de Marianne Bousquet, Présidente du groupe Ouest Atlantique des Alumni Sciences Po\n	18.45 : Intervention d’Hubert de Boisredon coordonnée par Emmanuel De Lutzel, en dialogue avec le public\n	19.45 : Cocktail (par la Caisse régionale Atlantique Vendée) et dédicace\n\n\n \n\nDétails logistiques :\n\n\n	Évènement gratuit mais inscription obligatoire\n	Pass sanitaire et port du masque obligatoire dans le respect de la règlementation en vigueur.\n	La librairie Siloe de Nantes organise la vente du livre d’Hubert de Boisredon avant et après la conférence.\n\n\nPlus de renseignements : ouest-atlantique@sciencespo-alumni.fr ou emmanueldelutzel@gmail.com\nCette conférence est à l'initiative des sections Ouest Atlantique et Bretagne, du groupe professionnel Economie Sociale et Solidaire des Alumni Sciences Po, en partenariat avec le Crédit Agricole Atlantique Vendée.\n\nN’hésitez pas à partager l’invitation avec vos amis !
BEGIN:VALARM
ACTION:DISPLAY
TRIGGER:-PT60M
DESCRIPTION:Conférence d’Hubert de Boisredon, PDG du Groupe Armor
END:VALARM
END:VEVENT
END:VCALENDAR