BEGIN:VCALENDAR
VERSION:2.0
X-WR-TIMEZONE:Europe/Paris
PRODID:-//Audencia//NONSGML v1.0//EN
CALSCALE:GREGORIAN
BEGIN:VEVENT
SUMMARY:MS MOS : Table ronde "L'avenir de la haute performance sportive en France"
DTSTART:20211208T183000
DTEND:20211208T213000
UID:1108
DTSTAMP:20260421T105204
LOCATION:Audencia Campus Paris 95 rue Falguière 75015 Paris
DESCRIPTION:La promo 2021-2022 du MS MOS vous invite à une table ronde sur le thème de\n\n "L'avenir de la haute performance sportive en France"\n\nle mercredi 8 décembre à partir de 18h30 sur le campus Paris\n\n \n\nAlors que la dernière édition des Jeux Olympiques et Paralympiques s’est achevée il y a quelques mois, la performance des Bleus n'a pas donné entière satisfaction. \n\nParis 2024 approchant à grands pas, de nombreuses personnalités ont déjà exprimé leur volonté de voir les sportifs tricolores performer à domicile et hisser l'Équipe de France parmi les cinq meilleures du monde.\nEst-ce un objectif réalisable compte tenu de l’organisation et des moyens actuels ? Le plan « Ambition Bleue », inspiré de certains voisins européens, est-il une solution viable ?\n\nLes intervenantes :\n\n\nFrédérique Jossinet : ancienne judokate, médaillée d'argent aux Jeux Olympiques d'Athènes 2004. Actuellement Directrice du football féminin et de la féminisation du football à la Fédération Française de Football, mais également vice-présidente en charge du haut niveau et de la performance à la Fédération Française de Judo.\n\n\n\nMathilde Julla-Marcy : maîtresse de conférence à l'UFR STAPS de l'Université de Nantes, et auteure de l'édito " Jeux 2024 : À trop se focaliser sur l'élite, on ne pourra améliorer les résultats", publié dans Ouest-France. \n\n\n\nNos invités aborderont différentes pistes de réflexions et confronteront leurs points de vue sur l’avenir de la haute performance française. \n\n \n\nConférence suivi d'un cocktail pour partager un moment convivial.\nLes inscriptions sont obligatoires afin de faciliter l'organisation.\n \n\nInscriptions obligatoires.\nInscrivez-vous en vous connectant à votre compte.\nQuestions ? : nushad.merchant@audencia.com\n\nLa conférence sera aussi diffusée en direct sur la chaîne Twitch d'Audencia \n \n\n \n\nVeuillez noter que le Pass Sanitaire est obligatoire pour accéder à l'événement. Chaque participant devra présenter son Pass Sanitaire qui consiste en la présentation, numérique ou papier, d'une preuve sanitaire dont voici la liste :\n\n\n	La vaccination, à la condition de disposer d'un schéma vaccinal complet (les deux doses avec un délai de 7 jours après la deuxième injection)\n	La preuve d'un test PCR ou antigénique négatif de moins de 24h\n	Le résultat d'un test PCR positif (attestant du rétablissement du Covid-19) datant d'au moins 11 jours et de moins de 6 mois\n\n
BEGIN:VALARM
ACTION:DISPLAY
TRIGGER:-PT60M
DESCRIPTION:MS MOS : Table ronde "L'avenir de la haute performance sportive en France"
END:VALARM
END:VEVENT
END:VCALENDAR