BEGIN:VCALENDAR
VERSION:2.0
X-WR-TIMEZONE:Europe/Paris
PRODID:-//Audencia//NONSGML v1.0//EN
CALSCALE:GREGORIAN
BEGIN:VEVENT
SUMMARY:Webinar: décryptage du Certificat Administrateur en partenariat avec l'IFA
DTSTART:20211213T133000
DTEND:20211213T141500
UID:1115
DTSTAMP:20260425T174719
LOCATION:
DESCRIPTION:Nous vous donnons rendez-vous, avec Alain MARTEL et Evelyne FAURY de l'IFA (Institut Français des Administrateurs), le lundi 13 décembre 2021, de 13h30 à 14h15 pour un webinar dédié au décryptage du Certificat Administrateur d'entreprise de taille intermédiaire.\n \nVoici le lien pour participer à l'événement\n\n\n\n\nN'hésitez pas à contacter Louis-Dominique DUBOURDIEU si vous souhaitez y participer ou pour recevoir le lien pour déposer votre candidature.\n\n\nNB: la prochaine rentrée aura lieu\nle 7 avril 2022 à Nantes\n(il reste 7 places disponibles)\n\nVotre contact Audencia:\nLouis-Dominique DUBOURDIEU\nProgramme Manager\nAudencia Executive Education\n@Audencia_ExecEd \nTel : +33 (0)240 374 551   \nMobile :+33 (0)788 483 527\n 
BEGIN:VALARM
ACTION:DISPLAY
TRIGGER:-PT60M
DESCRIPTION:Webinar: décryptage du Certificat Administrateur en partenariat avec l'IFA
END:VALARM
END:VEVENT
END:VCALENDAR