BEGIN:VCALENDAR
VERSION:2.0
X-WR-TIMEZONE:Europe/Paris
PRODID:-//Audencia//NONSGML v1.0//EN
CALSCALE:GREGORIAN
BEGIN:VEVENT
SUMMARY:Guided tour of the Grain de Sail cargo sailboat in New York
DTSTART:20211211T173000
DTEND:20211211T183000
UID:1116
DTSTAMP:20260426T000304
LOCATION:ONE°15 Brooklyn Marina 159 Bridge Park Drive Brooklyn NY 11201
DESCRIPTION:We have an exciting opportunity for Audencia Alumni in New York - more details coming soon!\n\nGrain de Sail, the cargo sailboat left Saint Malo on 4 November and is heading for New York City. She is due to arrive early December and will first unload her cargo (10,000 bottles of organic wine) before reloading with unused medical supplies which are to be delivered to the Dominican Republic. After unloading and reloading, Grain de Sail will head back to France with a cargo of cocoa.\n\nGrain de Sail's CMO and Audencia alum, Stefan Gallard (MBA 13), will be at the quayside in New York and has kindly agreed to host a guided tour for fellow alumni:\n\nSaturday 11 December from 17:30\nONE°15 Brooklyn Marina 159 Bridge Park Dr, Brooklyn, NY 11201\n+1 718-490-7136\n\nThis will be an opportunity to visit the boat and taste some of the French wine.\n\nIn order to comply with current health restrictions, places are limited so book now!\n \n
BEGIN:VALARM
ACTION:DISPLAY
TRIGGER:-PT60M
DESCRIPTION:Guided tour of the Grain de Sail cargo sailboat in New York
END:VALARM
END:VEVENT
END:VCALENDAR