BEGIN:VCALENDAR
VERSION:2.0
X-WR-TIMEZONE:Europe/Paris
PRODID:-//Audencia//NONSGML v1.0//EN
CALSCALE:GREGORIAN
BEGIN:VEVENT
SUMMARY:Forum Emploi 2022 留法校友招聘论坛
DTSTART:20220611T040000
DTEND:20220611T110000
UID:1164
DTSTAMP:20260422T231856
LOCATION:Alliance Française Canton - Wuzidasha, Beijiaochang Henglu, 12 hao, Yuexiu Qu, 510050, GUANGZHOU, R.P. Chine
DESCRIPTION:\n\n \n\n\n\n \n\n\nLaunched in 2011 by the Embassy of France in China, the Forum Emploi has become in a few years the preferred employment fair for companies looking for highly qualified candidates and higher education graduates from France.\n\n留法校友招聘论坛由法国驻华大使馆与中国法国工商会于2011年创立，历经几年的发展，已经成为了企业招聘资质优异、拥有法国高等教育水平人才的最佳选择。\n\nWe are delighted to present the 10th edition of the Employment Forum on June 11th, 2022 in Guangzhou.\n\n我们诚邀您参加于2022年6月11日在广州举办的第十届留法校友招聘论坛。\n\n \n\n  Highlights of this year's recruitment forum  \n\n  今年留法校友招聘论坛的亮点  \n\n \n\n\n	\n	High-quality enterprises brought together. \n\n	高质量企业齐聚一堂。\n	\n	\n	Online and offline warm-up activities to help prepare for your job search. \n\n	线上和线下的热身活动，帮助你为求职做准备。\n	\n	\n	Early Bird Event Registrations will get an exclusive interview slot.\n\n	早期活动报名者将获得一个独家面试名额。\n	\n\n\n \n\nInterested to attend this forum? \n\nRegister now!\n\n希望参加招聘会？现在注册吧！\n\n \n\nDate: June 11th, 2022 | 日期: 2022年6月11日\n\nTime: 10:00 am - 5:00 pm | 时间: 上午10点 - 下午5点\n\nVenue: Alliance Française Canton - Wuzidasha, Beijiaochang Henglu, 12 hao, Yuexiu Qu, 510050, GUANGZHOU, R.P. Chine | 地址: 广州法语联盟 - 广州市越秀区北较场横路12号物资大厦2楼\n\n \n\nScan to attend this forum\n\n扫码注册招聘会\n\n\n\n\n
BEGIN:VALARM
ACTION:DISPLAY
TRIGGER:-PT60M
DESCRIPTION:Forum Emploi 2022 留法校友招聘论坛
END:VALARM
END:VEVENT
END:VCALENDAR