BEGIN:VCALENDAR
VERSION:2.0
X-WR-TIMEZONE:Europe/Paris
PRODID:-//Audencia//NONSGML v1.0//EN
CALSCALE:GREGORIAN
BEGIN:VEVENT
SUMMARY:Alumni Around the World 2022 in Barcelona
DTSTART:20220320T103000
DTEND:20220320T123000
UID:1170
DTSTAMP:20260421T105500
LOCATION:Parc de la Ribera on the Besos river (beginning of the park at the Ferrocarril bridge) 08930 Sant Adria de Besos Barcelona
DESCRIPTION:#Audencia_Worldwide\n\nAmbassadors Tristan Pelloux and Louis de Jabrun have devised a daring challenge for alumni in Barcelona.\n\nCome and join them and fellow alumni on Sunday, 20 March at 10:30am in Parc de la Ribera on the Besos river (beginning of the park at the Ferrocarril bridge) in Barcelona for a 5km run followed by snacks and drinks.\n\n\n\n \n\n\n“Audencia Around the World” will begin on 17 March, and will travel to cities on all five continents for a full month before coming to a close on 18 April. This event is for alumni and students who are currently living and working in different cities worldwide.\n\nIn 2022, for its fourth edition, Audencians around the world will embark on a slightly different journey. With a nod to the School's motto “never stop daring”, alumni ambassadors have been creative, inventive and resourceful in devising daring challenges across the globe. Your challenge, should you choose to accept it, is to join them for a daring activity.\n\n\n\nDiscover what else is happening for Around the World 2022:\n\n \n\n\n \n\n\nIf you can’t find an event taking place near you, drop us a line and we’ll help you set one up! Depending on the health restrictions in your city/country, your chosen activity may be in a group or on your own.
BEGIN:VALARM
ACTION:DISPLAY
TRIGGER:-PT60M
DESCRIPTION:Alumni Around the World 2022 in Barcelona
END:VALARM
END:VEVENT
END:VCALENDAR