BEGIN:VCALENDAR
VERSION:2.0
X-WR-TIMEZONE:Europe/Paris
PRODID:-//Audencia//NONSGML v1.0//EN
CALSCALE:GREGORIAN
BEGIN:VEVENT
SUMMARY:Speed Meeting Carrières Culturelles - Audencia Almni / Ecole du Louvre Alumni
DTSTART:20171120T190000
DTEND:20171120T233000
UID:123
DTSTAMP:20260422T231819
LOCATION:Ecole du Louvre - Palais du Louvre. Porte Jaujard. Place du Carrousel. 75001 Paris
DESCRIPTION:Chers diplômés,\n\nSous l'impulsion du Club Culture et Management, les réseaux de diplômés Audencia Alumni et Ecole du Louvre Alumni s'associent pour vous proposer un Speed Meeting commun le lundi 20 novembre à L'Ecole du Louvre à partir de 19h00.\n\nBoostez votre réseau en venant rencontrer des intervenants diplômés des nos 2 écoles avec des parcours riches et variés.\n\nVous pourrez échanger individuellement pendant 10 minutes avec 3 intervenants de votre choix (nous essaierons de tenir compte de vos préférences dans la mesure du possible) et leur poser toutes vos questions.\n \nAttention tous les créneaux pour les rencontres individuelles avec les intervenants ont été attribués.\nLes inscrits de dernière minute pourront nous rejoindre au jambon beurre pour la 2ème partie de la soirée et rencontrer les intervenants en binôme en s'arrangeant directement sur place avec les diplômés inscrits.\n\nDréoulé de la soirée :\n19h00 : accueil des participants\n19h30 - 21h00 : speed meeting\n21h00-21h30 : cocktail à l'Ecole du Louvre \n21h30 : poursuite des échanges au bar "Le jambon Beurre" autour d'un bon verre de vin et d'une planche de fromages/charcuterie\n\n40 places sont ouvertes côté Audencia pour nos diplômés.\n\nAttention Inscription obligatoire pour cet évènement pour des questions d'organisation et d'accès aux locaux.\n
BEGIN:VALARM
ACTION:DISPLAY
TRIGGER:-PT60M
DESCRIPTION:Speed Meeting Carrières Culturelles - Audencia Almni / Ecole du Louvre Alumni
END:VALARM
END:VEVENT
END:VCALENDAR