BEGIN:VCALENDAR
VERSION:2.0
X-WR-TIMEZONE:Europe/Paris
PRODID:-//Audencia//NONSGML v1.0//EN
CALSCALE:GREGORIAN
BEGIN:VEVENT
SUMMARY:Alumni Around the World 2022 in Phnom Penh
DTSTART:20220401T180000
DTEND:20220401T200000
UID:1234
DTSTAMP:20260426T001658
LOCATION:Poulo Wai Hotel and Apartment 71-73, Oknha Ket, Street St. 174,  Phnom Penh
DESCRIPTION:#Audencia_Worldwide\n\nFollowing the river cleanup at the beginning of this year's Around the World with Rithy Huot, fellow classmate Seang Sok has galvanised the alumni community in Phnom Penh. Join them for dinner on Friday 1 April from 6:00pm at the Poulo Wai Hotel and Apartment to catch up with news and have some fun!\n \n\n\n\n\n“Audencia Around the World” will begin on 17 March, and will travel to cities on all five continents for a full month before coming to a close on 18 April. This event is for alumni and students who are currently living and working in different cities worldwide.\n\nIn 2022, for its fourth edition, Audencians around the world will embark on a slightly different journey. With a nod to the School's motto “never stop daring”, alumni ambassadors have been creative, inventive and resourceful in devising daring challenges across the globe. Your challenge, should you choose to accept it, is to join them for a daring activity.\n\n\n\nDiscover what else is happening for Around the World 2022:\n\n \n\n\n \n\n\nIf you can’t find an event taking place near you, drop us a line and we’ll help you set one up! Depending on the health restrictions in your city/country, your chosen activity may be in a group or on your own.
BEGIN:VALARM
ACTION:DISPLAY
TRIGGER:-PT60M
DESCRIPTION:Alumni Around the World 2022 in Phnom Penh
END:VALARM
END:VEVENT
END:VCALENDAR