BEGIN:VCALENDAR
VERSION:2.0
X-WR-TIMEZONE:Europe/Paris
PRODID:-//Audencia//NONSGML v1.0//EN
CALSCALE:GREGORIAN
BEGIN:VEVENT
SUMMARY:Alumni Around the World 2022 in Luxembourg
DTSTART:20220423T110000
DTEND:20220423T130000
UID:1235
DTSTAMP:20260426T001534
LOCATION:2356 rue Pulvermuhl Luxembourg
DESCRIPTION:#Audencia_Worldwide\n\nAudencians in Luxembourg will be gathering on Saturday 23 April for some outdoor exercise. \n\nThis one is a little bit sporty and very funny !\nJoin us on Saturday 23rd April at 11:00 am for a little hike (2h approximately), to discover a part of the "Sentier Pédestre National Sud I" and then finish at the infamous Luxembourgish Duck Race.\nHere are the route details:\n\n\n\nRecap:\n- Start: 2356 rue Pulvermuhl (near Bonnevoie) at 11:00\n- Arrival: Centre Culturel Neimenster (Grund) at 13:00\n\nFor those who want to participate please send a message to Thomas or Matthieu or just comment the LinkedIn post (for this you need to have joined the Audencia Alumni in Luxembourg group) Hope to see many of you, it will be a fun experience :)\n\nSee you there!\n\n\n\n“Audencia Around the World” will begin on 17 March, and will travel to cities on all five continents for a full month before coming to a close one month later. This event is for alumni and students who are currently living and working in different cities worldwide.\n\nIn 2022, for its fourth edition, Audencians around the world will embark on a slightly different journey. With a nod to the School's motto “never stop daring”, alumni ambassadors have been creative, inventive and resourceful in devising daring challenges across the globe. Your challenge, should you choose to accept it, is to join them for a daring activity.\n\n\n\nDiscover what else is happening for Around the World 2022:\n\n \n\n\n \n\n\nIf you can’t find an event taking place near you, drop us a line and we’ll help you set one up! Depending on the health restrictions in your city/country, your chosen activity may be in a group or on your own.
BEGIN:VALARM
ACTION:DISPLAY
TRIGGER:-PT60M
DESCRIPTION:Alumni Around the World 2022 in Luxembourg
END:VALARM
END:VEVENT
END:VCALENDAR