BEGIN:VCALENDAR
VERSION:2.0
X-WR-TIMEZONE:Europe/Paris
PRODID:-//Audencia//NONSGML v1.0//EN
CALSCALE:GREGORIAN
BEGIN:VEVENT
SUMMARY:Afterwork in Luxembourg
DTSTART:20220601T190000
DTEND:20220601T203000
UID:1293
DTSTAMP:20260422T050436
LOCATION:De gudde Wellen 2 Mnt du Grund 1645 Luxembourg
DESCRIPTION:On the occasion of careers consultant Shyla du Cosquer's visit to Luxembourg, come and join her for an informal gathering.\n\nDate: Wednesday 1 June\nTime: 19:00 to 20:30\nVenue: De gudde Wellen, 2 Mnt du Grund, 1645 Luxembourg
BEGIN:VALARM
ACTION:DISPLAY
TRIGGER:-PT60M
DESCRIPTION:Afterwork in Luxembourg
END:VALARM
END:VEVENT
END:VCALENDAR