BEGIN:VCALENDAR
VERSION:2.0
X-WR-TIMEZONE:Europe/Paris
PRODID:-//Audencia//NONSGML v1.0//EN
CALSCALE:GREGORIAN
BEGIN:VEVENT
SUMMARY:MS MOS : Conférence "Sport & Seconde main"
DTSTART:20230301T193000
DTEND:20230301T223000
UID:1431
DTSTAMP:20260423T105132
LOCATION:Audencia Campus Paris 95 rue Falguière 75015 Paris
DESCRIPTION: \n\n« Le monde du sport est-il vraiment prêt à passer à la seconde main ? »\n\n\n\nÀ l’ère du questionnement sur le développement durable, du recyclage et des droits humains, certains équipementiers sportifs ont entamé une transformation, qui passe, entre autres, par le réemploi. A côté de cela, les clubs et l’industrie sportive dans son ensemble sont en pleine évolution sur ces thématiques.\n\n \nLe MOS vous invite à discuter de ces sujets d’actualité à l’occasion d’une table ronde le mercredi 1er mars 2023 à 19h30 sur le campus parisien.\n\n \nParmi les problématiques abordées avec nos invités :\n\nEn quoi la seconde main est-elle une innovation ?\nA-t-elle un impact sociologique sur la pratique du sport ?\n\n\nNous discuterons également des modèles économiques des acteurs du marché, et des enjeux qui les entourent.\n\nLa conférence sera animée par Coline Laurent (GE 17 & Collectif Encore) et nous aurons la chance d’accueillir Philippe Rol (MS MOS 18, Decathlon), Thomas Gounot (Campsider), Julien Pierre (Fair Play for the Planet) ainsi que la Recyclerie Sportive. \nCe temps d’échange sera suivi d’une collecte de matériel sportif au profit de La Recyclerie Sportive, en partenariat avec la plateforme Encore, qui permet de raconter l'histoire des objets d'occasion. \n\nChaque déposant pourra, s'il le souhaite, raconter une anecdote sur son équipement, pour créer un lien avec son prochain propriétaire, qui en prendra soin et pourra à son tour raconter la suite de son histoire.\n\nPas ENCORE convaincu ? Un cocktail sera également servi pour permettre à tous de faire connaissance et de se raconter ses aventures sportives (ou pas).\n\nN’oubliez pas de vous inscrire. Nous vous attendons nombreux !\n \n\n\n\nQuestion ? : nushad.merchant@audencia.com\n\n 
BEGIN:VALARM
ACTION:DISPLAY
TRIGGER:-PT60M
DESCRIPTION:MS MOS : Conférence "Sport & Seconde main"
END:VALARM
END:VEVENT
END:VCALENDAR