BEGIN:VCALENDAR
VERSION:2.0
X-WR-TIMEZONE:Europe/Paris
PRODID:-//Audencia//NONSGML v1.0//EN
CALSCALE:GREGORIAN
BEGIN:VEVENT
SUMMARY:Conférence Nantes : Les valeurs de l'émotion dans l'expérience client
DTSTART:20180201T183000
DTEND:20180201T203000
UID:145
DTSTAMP:20260419T195003
LOCATION:Mediacampus - Audencia SciencesCom 41 boulevard Prairie au duc 44 200 Nantes
DESCRIPTION:\nIntuiti et Audencia SciencesCom vous invitent à la conférence : \n\nLes valeurs de l'émotion dans l'expérience client \n \n\nQue ce soit pour une découverte du sujet ou une mise en application dans votre organisation, cette soirée a l'ambition de confronter le regard de chercheurs et l'expertise de professionnels spécialisés dans les approches centrées utilisateur. \n\nLe sujet sera introduit par Julien Pierre - Enseignant chercheur Audencia SciencesCom et Camille Alloing - Enseignant chercheur de l'Université Poitiers et co-auteurs de l'ouvrage Le web affectif, une économie numérique des émotions . Puis l'agence Intuiti animera les échanges des témoignages. \n\nProgramme des témoignages : \nGémo,\nJeanneau, \nVorwerk, \nprogrammation d'autres témoignages en cours. \n
BEGIN:VALARM
ACTION:DISPLAY
TRIGGER:-PT60M
DESCRIPTION:Conférence Nantes : Les valeurs de l'émotion dans l'expérience client
END:VALARM
END:VEVENT
END:VCALENDAR