BEGIN:VCALENDAR
VERSION:2.0
X-WR-TIMEZONE:Europe/Paris
PRODID:-//Audencia//NONSGML v1.0//EN
CALSCALE:GREGORIAN
BEGIN:VEVENT
SUMMARY:Club Activités Culturelles : Visite guidée - Le Faubourg Saint-Antoine
DTSTART:20230603T110000
DTEND:20230603T123000
UID:1463
DTSTAMP:20260421T105203
LOCATION:Opéra Bastille Place de la Bastille Paris
DESCRIPTION:\nLe Club Activités Culturelles organise une visite guidée "Le Faubourg Saint-Antoine​" le samedi 3 juin à 11h. \n \nCette visite nous emmènera dans un dédale de cours privées, d'impasses pavées ou des artisans doreur et marchands de meubles vernissaient ou décapaient autrefois des meubles de style. Aujourd'hui les artisans ont changé mais quelques ébénistes vivent encore dans ce beau quartier chargé d'histoire.\n \n\nPlaces limitées, inscriptions obligatoires !\n \n\n\n\nQuestions : nushad.merchant@audencia.com\n\n\n 
BEGIN:VALARM
ACTION:DISPLAY
TRIGGER:-PT60M
DESCRIPTION:Club Activités Culturelles : Visite guidée - Le Faubourg Saint-Antoine
END:VALARM
END:VEVENT
END:VCALENDAR