BEGIN:VCALENDAR
VERSION:2.0
X-WR-TIMEZONE:Europe/Paris
PRODID:-//Audencia//NONSGML v1.0//EN
CALSCALE:GREGORIAN
BEGIN:VEVENT
SUMMARY:Golf Trophy Audencia - 8th July - Chengdu
DTSTART:20230708T030000
DTEND:20230708T070000
UID:1559
DTSTAMP:20260421T105345
LOCATION:Sichuan Chengdu Languang Guanling Golf 1188 Guanling Avenue Jintang - Chengdu
DESCRIPTION:Let's play golf, network\nand complete the challenge of Audencia Foundation\n\nau Sichuan Chengdu Languang Guanling Golf\n\n\n \nLocated at 1188 Guanling Avenue, Jintang County, Chengdu, Sichuan Province, this 18-hole par 72 international championship golf course covers an area of over 4,200 acres. The course covers an area of 1,200 acres and 7,224 yards, and sits on a wooded valley, skillfully integrating the natural landscape of grass, lake, sand and trees. It was built in 2008 by China's best-known professional golf management company, Forward Group, in keeping with the native landscape. \n\nGuanling Golf Course adds to the challenge of the sport for those who are relentless in their quest for technical perfection. It is the course with the most undulating fairways in Chengdu. It also has the highest number of bunkers, with a total of 142 bunkers on the entire course, and gives the course a multi-coloured and varied landscape effect, which adds to the playability and enjoyment of the obstacles.\n\nHowever, the most remarkable is the 17th fairway, which is located on the edge of a cliff and is unmatched in Chengdu in terms of difficulty factor, fun and spectacle. Due to the special nature of the location, the greens are two-tiered with a steep slope from front to back. And when you are at the end of the cliff, it is the right time to feel a good character golf course that will give you an alternative golfing experience.\n \nwith the support of :\n\n        \n\n\n\n 1 trophy, several golf clubs!\n\nFor the first time, Golf Trophy Audencia will take place in several golfs clubs in France (Nantes and Paris) and abroad. Check the participating golf courses here.\n\n\n​ Solidarity game formula\n\nOn an 18-hole course, teams of 3 play in a scramble.\nAt each shot, the best ball of the 3 players is chosen. A formula that allows everyone to play and contribute to the team regardless of their level.\nThis competition will be held with the aid of the Audencia Foundation.\n\n>> Form your teams of 3 with Audencia Alumni or non-Alumni golfers. The Trophy is open to all!\n \n\n Program\n\n\n	9:00 (Chengdu time) - Welcome & Signing in\n	9:30 - Opening Ceremony & Group Photo\n	10:00-14:30 - Let's golf!\n	14:30 - Cocktail\n\n \n\n Registrations!\n\n\n\n>> Payment on-site\n      Audencia Alumni: 70€ (500 CNY) /  Not Audencia Alumni: 170€ (1,200 CNY)\n>> In order to validate your registration, it is necessary to fill in a form by clicking here.\n      Only one form per player.\n \n\n Questions?\n\nContact: Cici LIU at tcliu@audencia.com\n \n\n \n\n\nTake part in a unique golf trophy \nin an exceptional setting!\n\n\n\n 
BEGIN:VALARM
ACTION:DISPLAY
TRIGGER:-PT60M
DESCRIPTION:Golf Trophy Audencia - 8th July - Chengdu
END:VALARM
END:VEVENT
END:VCALENDAR