BEGIN:VCALENDAR
VERSION:2.0
X-WR-TIMEZONE:Europe/Paris
PRODID:-//Audencia//NONSGML v1.0//EN
CALSCALE:GREGORIAN
BEGIN:VEVENT
SUMMARY:Audencia Around the World - all the cities in 2023
DTSTART:20230419T000000
DTEND:20230419T001000
UID:1564
DTSTAMP:20260426T001745
LOCATION:
DESCRIPTION:Audencia's round the world tour ended yesterday evening with a record 40 events across the globe.\n\nWe hope you enjoyed seeing the variety of activities and locations during the past three weeks. Take a look at the photo gallery; you'll like it!\n \n\n\n\n 
BEGIN:VALARM
ACTION:DISPLAY
TRIGGER:-PT60M
DESCRIPTION:Audencia Around the World - all the cities in 2023
END:VALARM
END:VEVENT
END:VCALENDAR