BEGIN:VCALENDAR
VERSION:2.0
X-WR-TIMEZONE:Europe/Paris
PRODID:-//Audencia//NONSGML v1.0//EN
CALSCALE:GREGORIAN
BEGIN:VEVENT
SUMMARY:Highered Virtual Career Fair - preparation day
DTSTART:20230509T090000
DTEND:20230509T190000
UID:1569
DTSTAMP:20260421T121216
LOCATION:
DESCRIPTION:Join Highered's virtual career fair focusing on banking, finance, and consulting\n\n\n\nRegister for the sector-specific Virtual Career Fair, focused on Banking, Finance, and Consulting. The virtual fair will take place on the Highered platform from 9 to 11 May.\n \nHow to register\n\n\n	Log in to your Highered platform: https://audencia.gethighered.global/ If you do not have an account, sign up and create one.\n	Click on “Virtual Events” on the top menu, and register. \n	Fill out your profile to complete the registration.\n\n\n9 May: Preparation Day\nDuring the preparation day, the virtual fair will be completely set up, and talent will be welcome to join CV Clinics for sector-specific CV preparation and a webinar covering networking tips and tricks. The purpose of the preparation day is to help your talent effectively communicate with recruiters during the Live Event.\n\n10 May: Live Event\nReal-time interaction with recruiters and candidates via chat/video chat.  \nExplore jobs and attend live company  webinars.\n\n11 May: Wrap-Up Day\nThe wrap-up day will include Masterclasses covering interview tips and salary negotiation to prepare them for potential opportunities.\n 
BEGIN:VALARM
ACTION:DISPLAY
TRIGGER:-PT60M
DESCRIPTION:Highered Virtual Career Fair - preparation day
END:VALARM
END:VEVENT
END:VCALENDAR