BEGIN:VCALENDAR
VERSION:2.0
X-WR-TIMEZONE:Europe/Paris
PRODID:-//Audencia//NONSGML v1.0//EN
CALSCALE:GREGORIAN
BEGIN:VEVENT
SUMMARY:Club Activités Culturelles : Guided tour of Montmartre
DTSTART:20230916T110000
DTEND:20230916T123000
UID:1597
DTSTAMP:20260420T133200
LOCATION:TBC
DESCRIPTION:\nThe Club Activités Culturelles is organising its first Parisian cultural visit in English ?\n\nIt will be a guided tour of Montmartre on Saturday 16 September at 11.30am. More details to be followed.\n\n\nLimited spots & compulsory registrations!\n\n\n\nQuestions: nushad.merchant@audencia.com\n\n\n\n 
BEGIN:VALARM
ACTION:DISPLAY
TRIGGER:-PT60M
DESCRIPTION:Club Activités Culturelles : Guided tour of Montmartre
END:VALARM
END:VEVENT
END:VCALENDAR