BEGIN:VCALENDAR
VERSION:2.0
X-WR-TIMEZONE:Europe/Paris
PRODID:-//Audencia//NONSGML v1.0//EN
CALSCALE:GREGORIAN
BEGIN:VEVENT
SUMMARY:Webinar : Stratégies d'investissement
DTSTART:20231116T180000
DTEND:20231116T190000
UID:1674
DTSTAMP:20260421T105203
LOCATION:
DESCRIPTION:\nPros et cons des différentes solutions pour préparer sa retraite et protéger son patrimoine\n \n\nAvec 15 ans d'expérience à son actif, Nicolas Tamisier est un expert passionné en finance et gestion de patrimoine. Grâce à ses multiples qualifications (certification AMF, agrément CIF, courtier en assurance et agent immobilier avec la Carte T), il dispose d'une vision objective et perspicace pour vous guider dans vos projets d'investissement, d'optimisation fiscale, de préparation à la retraite et de transmission.\n\nNicolas abordera les différentes solutions pour préparer au mieux votre retraite et protéger votre patrimoine, dans un contexte d'inflation et de fragilité du système de retraite français. Vous découvrirez les avantages et les inconvénients des placements financiers, investissements immobiliers, assurances vie, et SCPI, avec accent particulier sur les SCPI européennes et une shortlist de sociétés de gestion.\n\nEn vous inscrivant à cet événement, vous aurez l'occasion de profiter de l'expertise de Nicolas et d'acquérir des connaissances précieuses pour optimiser votre épargne et sécuriser votre avenir.\n \n\nInscriptions obligatores !\n \n\nVoici le lien Teams ?? https://tinyurl.com/2sjrfd67\n \n\n\n\nQuestions : nushad.merchant@audencia.com
BEGIN:VALARM
ACTION:DISPLAY
TRIGGER:-PT60M
DESCRIPTION:Webinar : Stratégies d'investissement
END:VALARM
END:VEVENT
END:VCALENDAR