BEGIN:VCALENDAR
VERSION:2.0
X-WR-TIMEZONE:Europe/Paris
PRODID:-//Audencia//NONSGML v1.0//EN
CALSCALE:GREGORIAN
BEGIN:VEVENT
SUMMARY:CLUB TRANSITION I Soirée Fresques & Atelier 2 Tonnes I NANTES
DTSTART:20240312T183000
DTEND:20240312T220000
UID:1743
DTSTAMP:20260426T001853
LOCATION:Médiacampus
DESCRIPTION:\nChers membres du Club Audencia Transition,\n\nLe club est ravi de vous inviter à son tout premier événement de l'année, une "Soirée Fresques&Atelier" !\n\nC'est l'occasion parfaite pour se retrouver (ou de se rencontrer), de réflechir aux solutions à mettre en place pour un monde meilleur et aussi, de penser aux prochains évènements du club.\n\nNos alumni animatrices (Clémence Yverneau-Metz & Charlotte Auvrèle) vous proposent de participer à la fresque ou l'atelier de votre choix :\n\n\n	Fresque du climat : comprendre le fonctionnement, l’ampleur et la complexité des enjeux liés aux dérèglements climatiques. \n	Atelier 2Tonnes [COMPLET] : projetez-vous jusqu'en 2050, découvrez les leviers individuels et collectifs de la transition écologique, et identifiez le rôle que vous pouvez y jouer !\n\n\nLa soirée continuera autour d'un verre et d'un apéro dinatoire pour échanger autour des thématiques abordées dans les différents groupes. \n\nPour valider votre inscription, merci de m'indiquer l'atelier ou la fresque à laquelle vous souhaitez participer ( s.rolland@audencia.com) \n\nAu plaisir de vous retrouver nombreux !\n\n \n\nVous êtes à Paris ? Rejoignez l'évènement Parisien ?\n\nSoirée Fresques & Atelier 2T I Paris
BEGIN:VALARM
ACTION:DISPLAY
TRIGGER:-PT60M
DESCRIPTION:CLUB TRANSITION I Soirée Fresques & Atelier 2 Tonnes I NANTES
END:VALARM
END:VEVENT
END:VCALENDAR