BEGIN:VCALENDAR
VERSION:2.0
X-WR-TIMEZONE:Europe/Paris
PRODID:-//Audencia//NONSGML v1.0//EN
CALSCALE:GREGORIAN
BEGIN:VEVENT
SUMMARY:CHAPTER SHENZHEN | 巴黎奥运会Party
DTSTART:20240728T073000
DTEND:20240728T103000
UID:1878
DTSTAMP:20260423T121907
LOCATION:深圳大学粤海校区内南山区南海大道3686号粤海门广场 B座1楼深圳法语联盟
DESCRIPTION:In partnership with Alliance Française Shenzhen, Audencia Alumni is pleased to invite you for a gathering themed Paris Olympic Games. \n\nDate: Sunday 28 July\nTime: 13:30 onwards\nAddress: 1F, Building B, No. 3686 Nanhai Avenue, Nanshan District, Shenzhen (深圳大学粤海校区内，南山区南海大道3686号粤海门广场 B座1楼深圳法语联盟)\nOn the programme: Best video clips of the Paris Olympic Games opening ceremony, with explanations of cultural & historical references, fun & themed workshops, questions & answers, etc. \n \nRegistration through the QR code before 19 July, afterwards, please contact your ambassador Suki at sunqing221@126.com to book your place. \n \n\n
BEGIN:VALARM
ACTION:DISPLAY
TRIGGER:-PT60M
DESCRIPTION:CHAPTER SHENZHEN | 巴黎奥运会Party
END:VALARM
END:VEVENT
END:VCALENDAR