BEGIN:VCALENDAR
VERSION:2.0
X-WR-TIMEZONE:Europe/Paris
PRODID:-//Audencia//NONSGML v1.0//EN
CALSCALE:GREGORIAN
BEGIN:VEVENT
SUMMARY:PARIS VAUT BIEN UNE FETE
DTSTART:20240906T190000
DTEND:20240908T200000
UID:1879
DTSTAMP:20260423T062337
LOCATION:https://pvbf.fr/
DESCRIPTION:Célébrer Paris et son patrimoine culturel\n\nLe Festival Paris vaut bien une fête trace un trait d'union entre Paris d'hier, d'aujourd'hui et de demain, invitant les parisiennes et parisiens à prendre part à une grande fête populaire intergénérationnelle et à s'émerveiller devant ce qui les unit : leur patrimoine.\n \n\n🥁🥁🥁 INSCRIPTIONS ICI 🥁🥁🥁\n \n\nDepuis 2019, l'équipe de bénévoles, dont Baptiste Clément (SciencesCom 2019), s'affaire à identifier les meilleurs talents et artisans locaux afin de les présenter aux festivaliers et de fédérer ainsi une nouvelle communauté territoriale.\n\nFête, spectacles, animations culturelles, bal, grande parade et festin viennent rythmer ce week-end enchanté aux couleurs de Paris.\n\nLe festival d'intérêt général ancre sa programmation dans des valeurs fortes : la valorisation du patrimoine culturel immatériel (UNESCO), la laicité républicaine, la solidarité et l'inclusion.\n\nPour cette seconde édition, PVBF met à l'honneur deux dates anniversaires : les 80 ans de la Libération de Paris ainsi que les 100 ans des Jeux Olympiques de Paris.\n \n\n\n👀 PROGRAMME 👀 \n\n☀ VENDREDI 6 SEPTEMBRE\n\n19h-23h : Bal Olympique (Mairie du 16e arrondissement)\n\nINSCRIPTIONS ICI\n\n☀ SAMEDI 7 SEPTEMBRE\n\nEsplanade Gaston Monnerville, Paris 6\n12h : Concert du choeur des Polyssons de Belleville\n14h : Démonstration de Béhourd suivie d'une initiation avec SAEA Armes\n15h : Spectacle Aude Fy Lumena "Moi qui ne pensais pas venir à Paris"\n15h30 : Bal Belle Epoque animé par Carnet de Bals\n16h : Le Mariage forcé de Molière par la roupe du Libre Alcyon\n17h : Théâtre d'improvisation les 100 ans des JO avec Projet Cyrano\n19h-21h : Bal Libération de Paris avec Carnet de Bals, Place André Honorat\n20h-23h : Festin de la Libération, Place André Honorat, sur réservation\n\nINSCRIPTIONS ICI\n\n☀ DIMANCHE 8 SEPTEMBRE\n\n11h : Combat de Mousquetaires par Estocade suivi d'une initiation à l'escrime pour les plus petits (Esplanade Gaston Monnerville)\n12h : Cathédrales humaines avec les Casteliers de Paris\n13h : Spectacle Aude Fy Lumena\n14h : Tournoi des Parisiens\n15h : Départ de la Grande Parade, Panthéon (500 figurants, chars et véhicules anciens)\n16h : Accueil par la Fanfare des Gardiens de la Paix de la Préfecture de Police de Paris, Esplanade Gaston Monnerville\n16h30 : Remise des clefs de la ville de Paris aux élus par la Parisienne d'Honneur, Tina Campo.\n18h-20h : Bal populaire, place André Honorat\n\nINSCRIPTIONS ICI
BEGIN:VALARM
ACTION:DISPLAY
TRIGGER:-PT60M
DESCRIPTION:PARIS VAUT BIEN UNE FETE
END:VALARM
END:VEVENT
END:VCALENDAR