BEGIN:VCALENDAR
VERSION:2.0
X-WR-TIMEZONE:Europe/Paris
PRODID:-//Audencia//NONSGML v1.0//EN
CALSCALE:GREGORIAN
BEGIN:VEVENT
SUMMARY:MBA Speed-networking session
DTSTART:20180227T190000
DTEND:20180227T203000
UID:190
DTSTAMP:20260421T054501
LOCATION:Audencia Atlantic Campus Alumni Corner
DESCRIPTION:Come to the MBA speed-networking session at Audencia!\n \nOn Tuesday 27th February\nFrom 19.00 to 20.30\nAt the Alumni Corner\n\n\nConnect with fellow MBAs from previous years and be inspired by what they've been doing since they graduated from Audencia.\n\n \n*This event is for MBA students and alumni only*
BEGIN:VALARM
ACTION:DISPLAY
TRIGGER:-PT60M
DESCRIPTION:MBA Speed-networking session
END:VALARM
END:VEVENT
END:VCALENDAR