BEGIN:VCALENDAR
VERSION:2.0
X-WR-TIMEZONE:Europe/Paris
PRODID:-//Audencia//NONSGML v1.0//EN
CALSCALE:GREGORIAN
BEGIN:VEVENT
SUMMARY:Etudiants - SOIREE GALA Audencia Alumni Awards
DTSTART:20170325T183000
DTEND:20170325T235900
UID:20
DTSTAMP:20260425T164654
LOCATION:80, boulevard de Rochechouart - 75018 Paris
DESCRIPTION:Déjà 120 inscrits... consultez la liste ici !\n\n\n \n \n\nUne soirée d'exception dans la salle mythique du Trianon Paris... \n\n- une conférencière, Sandra Enlart, directrice générale d'Entreprise et Personnel, nous dira à quoi ressemblera le travail de demain,\n- des animateurs professionnels et diplômés,\n- des alumni nominés au parcours incroyable,\n- une animation photos personnalisée,\n- un cocktail à bulles,\n- une soirée pétillante,\n- un dancefloor jusqu'à 1h30 du matin...\n \n\nDes tarifs étudiants privilégiés pour cette soirée prestige : 25€\n>> Au-delà du 21 mars, date à laquelle le nombre de participants a été communiqué au traiteur, tout désistement ne pourra être remboursé. Merci de votre compréhension.\n\n \n \n\n \n\nCérémonie  |  cocktail dinatoire  |  soirée avec DJ\n\n> de 18h30 à 1h30 au Trianon (Paris 18e) le 25 mars prochain.\n\n \n\n\nAprès avoir découvert les nominés et voté pour les parcours les plus inspirants du Réseau, laissez-vous embarquer pour une soirée Alumni unique aux côtés de :\n- Eric DODIN (GE 88), président du jury et directeur général de Fraikin, \n- Emeric PEYREDIEU du CHARLAT, directeur général d’Audencia Business School\n- Estelle MARIE (GE 04), présidente de l’association Audencia Alumni.\n\n\n\nLa révélation des 7 futurs lauréats :\n\nConsultez les profils des 23 nominés ici...\nElus par vous et un jury d’experts composé de diplômés et de membres de l’Ecole, les sept lauréats seront récompensés dans les catégories suivantes :\n\n\n \n\n\n\n\nUn grand merci à nos partenaires qui vous attendent pour vous faire vivre une soirée exceptionnelle :\n                    \n\n\n \n
BEGIN:VALARM
ACTION:DISPLAY
TRIGGER:-PT60M
DESCRIPTION:Etudiants - SOIREE GALA Audencia Alumni Awards
END:VALARM
END:VEVENT
END:VCALENDAR