BEGIN:VCALENDAR
VERSION:2.0
X-WR-TIMEZONE:Europe/Paris
PRODID:-//Audencia//NONSGML v1.0//EN
CALSCALE:GREGORIAN
BEGIN:VEVENT
SUMMARY:TRIATHLON AUDENCIA LA BAULE | Challenge Alumni : Tri-Relais
DTSTART:20250920T120000
DTEND:20250920T160000
UID:2002
DTSTAMP:20260422T192345
LOCATION:La Baule
DESCRIPTION:!! CA Y EST : Toutes les équipes sont réservées !!\n\nSi vous souhaitez venir féliciter nos alumni sportifs, venez à leur rencontre lors de l'after triath le samedi 20 septembre à 18h30\nLes inscriptions à l'after, c'est par ici !\n\n\nChers alumni, \n\nPour la 38ème édition du Triathlon Audencia La Baule, Audencia Alumni vous met au défi de relever le challenge du tri-relais grand public le samedi 20 septembre, départ 13h00. Pas besoin de vous inscrire sur le site officiel, Audencia Alumni vous a réservé 25 équipes de trois personnes (premiers inscrits = premiers servis !).\n\n\n	\n	Constituez votre équipe alumni : un nageur, un coureur, un cycliste (deadline le 14 juin)\n	\n	\n	Inscrivez-vous et rajoutez les noms de vos co-équipiers en tant qu'accompagnants sur cette page (bouton "s'inscrire" en haut à droite)\n	\n	Remplissez  votre formulaire santé (deadline le 14 juin)\n\n\n\n​Sportifs ou non, invitez vos camarades de promo à l'after triath' à partir de 18h30 le samedi soir (événement sur inscription uniquement ! Plus d'informations à venir ultérieurement)\nToutes les informations sur la participation, le certificat médical, le pass compétition, l'after triath se trouvent dans l'espace "together" dédié. Pensez à utiliser la fonction "chat" de l'espace together pour rechercher des nageurs, coureurs ou cyclistes pour compléter votre équipe alumni !\n \nPour toute question liée à ce challenge, contactez l'équipe alumni\n \n\n Le site web du triathlon Audencia La Baule\n\n \n\nVotre participation au challenge alumni sera également l’occasion, pour la communauté Audencia Alumni, de soutenir des causes qui lui sont chères comme l’Association Nourette fondée par Gaël Lamant (GE 1996), qui aide à adoucir le quotidien des enfants malades et de leurs aidants. Ou encore l'Institut ICO, Institut de Cancérologie de l’Ouest, Centre de Lutte Contre le Cancer des Pays-de-la-Loire, choisi par Valérie Claude-Gaudillat pour le "challenge Hervé Gaudillat" en l'honneur d’Hervé (Exec MBA 2013) passionné de sport et habitué du Triathlon Audencia-La Baule, décédé d'un cancer il y a plus de 3 ans.\n \n\nVous souhaitez faire un don ?\n \n\nNourette\n \n\nICO\n \n\n
BEGIN:VALARM
ACTION:DISPLAY
TRIGGER:-PT60M
DESCRIPTION:TRIATHLON AUDENCIA LA BAULE | Challenge Alumni : Tri-Relais
END:VALARM
END:VEVENT
END:VCALENDAR