BEGIN:VCALENDAR
VERSION:2.0
X-WR-TIMEZONE:Europe/Paris
PRODID:-//Audencia//NONSGML v1.0//EN
CALSCALE:GREGORIAN
BEGIN:VEVENT
SUMMARY:AROUND THE WORLD | Montreal
DTSTART:20250429T170000
DTEND:20250429T190000
UID:2060
DTSTAMP:20260421T133916
LOCATION:TBC Montreal
DESCRIPTION:AROUND THE WORLD IN MONTREAL - save the date\n\nIt's all happening in Montréal. We have a date - Tuesday 29 April - but we have yet to define a time and a venue.\n\nIn the meantime, we invite Audencians in Montreal to save the date and keep checking this space for updates!\n\n \n
BEGIN:VALARM
ACTION:DISPLAY
TRIGGER:-PT60M
DESCRIPTION:AROUND THE WORLD | Montreal
END:VALARM
END:VEVENT
END:VCALENDAR