BEGIN:VCALENDAR
VERSION:2.0
X-WR-TIMEZONE:Europe/Paris
PRODID:-//Audencia//NONSGML v1.0//EN
CALSCALE:GREGORIAN
BEGIN:VEVENT
SUMMARY:Marketing responsable : comment amorcer le virage ?
DTSTART:20180410T193000
DTEND:20180410T213000
UID:208
DTSTAMP:20260420T040440
LOCATION:Campus Audencia Paris 95 Rue Falguière, Paris 15ème
DESCRIPTION:Une conférence suivie d'un cocktail networking\nUn événement proposé par les clubs Développement Durable et Marketing Digital,\nen partenariat avec Audencia SciencesCom et la Chaire RSE d'Audencia.\n\n \n\nEtat des lieux : les consommateurs et la remise en question du marketing traditionnel \nLe marketing traditionnel est mis à mal par un consommateur émancipé dont la méfiance est croissante. Pour Florence Touzé, le marketing implicatif est la solution responsable et vertueuse.\nComment les entreprises peuvent –elles définir un  nouveau contrat de marque afin de retisser des liens solides avec leurs consommateurs et leurs parties prenantes ?\n\nTémoignage consulting : GreenFlex\nFort de son expertise et de son barômetre Les Français et la consommation responsable » : La rupture, c’est nous ! le cabinet Greenflex permet de capter des tendance importantes sur la mise en œuvre de démarches responsables.  \nStéphane Petitjean nous parlera de l’évolution du regard des entreprises vis-à vis de démarches responsables.  Ce sont aujourd’hui les dirigeants qui s’intéressent au sujet et y voient des pistes de croissance pour l’avenir.\n \nTémoignage entreprise : le groupe ERAM\nLe groupe Eram est composé de 8 marques complémentaires: Eram, Texto, Mellow Yellow, Bocage, Heyraud, TBS, Gémo.\nCaroline Jolly, responsable RSE du Groupe Eram partagera la démarche engagée pour fédérer ce groupe de marques aux multiples facettes, sensibiliser les équipes, ouvrir les esprits à d’autres changements éventuels.\n \n\nCaroline Jolly\nResponsable RSE | Groupe Eram\nAprès un parcours de plus de 15 ans dans des fonctions marketing, Caroline Jolly s'est orientée dès 2005 vers le développement durable. Elle créé alors Initial21, une structure de conseil pour accompagner les entreprises dans la mise en place de leur politique RSE. En Avril 2016, elle rejoint en qualité de Responsable RSE le Groupe ERAM qu'elle accompagnait depuis 3 ans dans sa démarche.\n\nStéphane Petitjean\nDirecteur associé | GreenFlex\nAprès 12 ans d’expérience professionnelle dans le conseil marketing et communication au sein d’agences référentes (Rapp, DDB), Stéphane Petitjean décide de mettre son expertise au service du Développement Durable. Il entre chez Ethicity en 2007, puis chez GreeFlex. Il dirige l’offre « Transformation de l’offre et consommation responsable » de GreenFlex dont la vocation est d’apporter une expertise et les outils concrets pour évaluer, transformer et piloter les enjeux « durables » dans l’offre produits (notamment, l’étude « Les Français et la consommation responsable », le baromètre « Good Product », l’outil de veille des signaux sociétaux RADDAR…).\n\nFlorence Touzé\nCo-titulaire  | Chaire RSE Audencia-SciencesCom\nResponsable de la spécialisation communication de marque | SciencesCom\nSes thèmes de recherche sont : la marque, la marque responsable, l’évolution des pratiques professionnelles, les relations agences-annonceurs, la consommation et la communication durable, la communication et le marketing des produits pour enfants.
BEGIN:VALARM
ACTION:DISPLAY
TRIGGER:-PT60M
DESCRIPTION:Marketing responsable : comment amorcer le virage ?
END:VALARM
END:VEVENT
END:VCALENDAR