BEGIN:VCALENDAR
VERSION:2.0
X-WR-TIMEZONE:Europe/Paris
PRODID:-//Audencia//NONSGML v1.0//EN
CALSCALE:GREGORIAN
BEGIN:VEVENT
SUMMARY:CCI FRANCE CHINE EVENT | [Table Ronde] 2025 France-Canton : Interprétation des politiques économiques et commerciales | 2025 广州-法国：经贸合作政策解读暨圆桌对话
DTSTART:20250624T083000
DTEND:20250624T110000
UID:2143
DTSTAMP:20260425T184002
LOCATION:广州花园酒店  广州市越秀区环市东路368号  LN Garden Hotel Guangzhou  368 Huanshi Dong Road, Yuexiu District, Guangzhou
DESCRIPTION:\n \n\n为促进中国法国工商会会员在广州的经贸活动，向会员企业及时推广广州出台的各项惠企政策和营商环境改革成效，搭建政企沟通平台，中国法国工商会与广州市商务局联合举办本次政策解读活动及圆桌会议。\n\nLa CCI FRANCE CHINE, en coopération avec le Bureau de Commerce de la Municipalité de Canton, a le plaisir de vous inviter à sa table ronde "Interprétation des politiques économiques et commerciales", qui sera suivie d'une discussion, permettant à nos membres de s'exprimer en direct avec le gouvernement.\n\n \n\n本次分享语言为中文，法语同传。\n\nCet événement se tiendra en chinois, avec traduction simultanée en français.\n\n\n\n日程安排 Agenda :\n\n\n	\n		\n			\n			14:00    \n			\n			\n			签到\n\n			Accueil et enregistrement\n			\n		\n		\n			\n			14:30\n			\n			\n			开场致辞 Discours d'ouverture\n\n			\n				广州市商务局领导\n				柏纪言先生，中国法国工商会常务副会长；M. Fabien PACORY, Vice-Président Exécutif de la CCI FRANCE CHINE\n			\n			\n		\n		\n			\n			14:45\n			\n			\n			政策解读 \n\n			Interprétation des politiques économique et commerciales \n\n			\n				广州市商务局解读《广州市鼓励发展首店首发经济若干措施的通知》Avis de la Ville de Canton sur ses mesures visant à encourager les lancements des nouvelles boutiques et produits - interprété par le Bureau du Commerce de la municipalité de Canton\n				广州市发展改革委员会解读《国家碳达峰试点（广州）实施方案的通知》Avis sur la mise en œuvre du Plan d'essai national pour l'atteinte du pic d'émissions carbone (Guangzhou) - interprété par la Commission du Développement et de la Réforme de la municipalité de Guangzhou\n			\n			\n		\n		\n			\n			15:15\n			\n			\n			企业经验分享\n\n			Retour d'expérience des entreprises\n			\n		\n		\n			\n			15:45\n			\n			\n			广州市商务局领导与中国法国工商会会员企业代表沟通\n\n			Communication entre le Bureau de Commerce de la Municipalité de Canton et les représentants des entreprises membres de la CCI FRANCE CHINE.\n			\n		\n		\n			\n			16:10\n			\n			\n			自由交流酒会 \n\n			Networking\n			\n		\n	\n\n\n \n\n延展阅读 Références :\n\n《广州市鼓励发展首店首发经济若干措施的通知》\n\n《国家碳达峰试点（广州）实施方案的通知》\n\n \n\n会议地点 Lieu :\n\n广州花园酒店\n\n广州市越秀区环市东路368号\n\nLN Garden Hotel Guangzhou\n\n368 Huanshi Dong Road, Yuexiu District, Guangzhou\n\n \n\n会议语言 Langues :\n\n中文及法语（同声传译）\n\nChinois et Français (Traduction simultanée)
BEGIN:VALARM
ACTION:DISPLAY
TRIGGER:-PT60M
DESCRIPTION:CCI FRANCE CHINE EVENT | [Table Ronde] 2025 France-Canton : Interprétation des politiques économiques et commerciales | 2025 广州-法国：经贸合作政策解读暨圆桌对话
END:VALARM
END:VEVENT
END:VCALENDAR