BEGIN:VCALENDAR
VERSION:2.0
X-WR-TIMEZONE:Europe/Paris
PRODID:-//Audencia//NONSGML v1.0//EN
CALSCALE:GREGORIAN
BEGIN:VEVENT
SUMMARY:[CANCELLED] AROUND THE WORLD | Geneva
DTSTART:20251012T000000
DTEND:20251012T000000
UID:2183
DTSTAMP:20260421T103155
LOCATION:Gruyères, Suisse
DESCRIPTION:\n\nSalut à toutes et à tous,\n\nNous sommes ravis de vous annoncer la 7e édition d’Audencia Around the World, placée cette année sous le signe des traditions locales 🎉\n\n👉 Cette année, cap sur Gruyères pour une magnifique journée avec, entre autres:\n\n🍫 Visite de la Maison Cailler\n🏰 Découverte du château de Gruyères\n🧀 Pause gourmande à la Maison du Gruyère\n\nUne belle occasion de renforcer les liens entre alumni du Chapter dans une ambiance conviviale et festive !\n\n🗓️ Plus d’infos à venir… mais bloquez la date dès maintenant !
BEGIN:VALARM
ACTION:DISPLAY
TRIGGER:-PT60M
DESCRIPTION:[CANCELLED] AROUND THE WORLD | Geneva
END:VALARM
END:VEVENT
END:VCALENDAR