BEGIN:VCALENDAR
VERSION:2.0
X-WR-TIMEZONE:Europe/Paris
PRODID:-//Audencia//NONSGML v1.0//EN
CALSCALE:GREGORIAN
BEGIN:VEVENT
SUMMARY:CCI FRANCE CHINE EVENT | European Business in China Position Paper 2025/2026
DTSTART:20251126T113000
DTEND:20251126T130000
UID:2253
DTSTAMP:20260425T184049
LOCATION:CCI FRANCE CHINE Shanghai, 6F, Dongyi Building, 88 Changshu Road 上海市静安区常熟路88号东艺大厦6楼
DESCRIPTION:\n \n\nThe European Business in China Position Paper (Position Paper) is the European Chamber's most important publication and the cornerstone of its annual advocacy plan.\n\n \n\nThe Position Paper 2025/2026 calls on Chinese policymakers to use the upcoming 15th Five-year Plan (15FYP) (2026–2030) to effect a shift towards a new, productive development model.\n\n \n\nThe Executive Position Paper offers five overarching Key Recommendations to Chinese policymakers, highlighting priority areas where, building on the achievements of the 14FYP, focused efforts can help China meet its development goals while remaining fully integrated in—and valued by—the global economic system.\n\n \nThe individual industry and horizontal position papers provide more granular detail, putting forward more than 1,100 constructive recommendations for optimising China’s business environment. \n\n\n \n\n\n	\n		\n			\n			\n				\n					\n						SPEAKERS\n					\n				\n			\n			\n		\n		\n			\n			\n				\n					\n						\n						 \n						\n					\n				\n			\n			\n		\n		\n			\n			\n				\n					\n						\n						\n							\n								\n									\n									\n										\n											\n												\n												\n													\n														\n															\n															\n																\n																	\n																		\n																	\n																\n															\n\n															 \n															\n														\n													\n												\n												\n											\n										\n									\n									\n									\n									\n										\n											\n												\n												\n													\n														\n															Mr. Bruno WEILL\n															Vice President of the European Chamber in China\n															Vice Chairman of the BNP Paribas Group for China\n															BNP Paribas\n														\n													\n												\n												\n											\n										\n									\n									\n								\n							\n						\n						\n					\n				\n			\n			\n		\n		\n			\n			\n				\n					\n						\n						\n							\n								\n									\n									\n										\n											\n												\n												\n													\n														\n															\n															\n																\n																	\n																		\n																	\n																\n															\n\n															 \n															\n														\n													\n												\n												\n											\n										\n									\n									\n									\n									\n										\n											\n												\n												\n													\n														\n															Mr. Christophe Lauras \n															Board Member of the European Chamber of Commerce in China & CCI FRANCE CHINE\n															Chief Operating Officer\n															Accor China\n														\n													\n												\n												\n											\n										\n									\n									\n								\n							\n						\n						\n					\n				\n			\n			\n		\n	\n\n \n\nDate:  Wednesday, November 26th\n\nTime: 6:30 PM - 8:00 PM\n\n          6:30pm - 7:00pm: Welcoming of the participants\n\n          7:00pm - 8:00pm: Presentation and Q&A\n\n          8:00pm: Cocktail & Networking\n\nLanguage: English\n\nLocation:\n\nCCI FRANCE CHINE Shanghai, 6F, Dongyi Building, 88 Changshu Road\n\n上海市静安区常熟路88号东艺大厦6楼
BEGIN:VALARM
ACTION:DISPLAY
TRIGGER:-PT60M
DESCRIPTION:CCI FRANCE CHINE EVENT | European Business in China Position Paper 2025/2026
END:VALARM
END:VEVENT
END:VCALENDAR