BEGIN:VCALENDAR
VERSION:2.0
X-WR-TIMEZONE:Europe/Paris
PRODID:-//Audencia//NONSGML v1.0//EN
CALSCALE:GREGORIAN
BEGIN:VEVENT
SUMMARY:CCI FRANCE CHINE EVENT | Sino-French South China Innovation Forum 中法华南创新商业交流会
DTSTART:20260129T063000
DTEND:20260129T100000
UID:2315
DTSTAMP:20260425T185915
LOCATION:The Ritz-Carlton Guangzhou 广州丽思卡尔顿酒店 3 Xing An Road, Pearl River New City, Tianhe District, Guangzhou, Guangdong, China 广州市天河区珠江新城兴安路3号
DESCRIPTION:\n \n\nCCI FRANCE CHINE, in partnership with the French Consulate General in Guangzhou, Business France and the French Foreign Trade Advisors (CCEF), with the support of the China Council for the Promotion of International Trade Guangdong Committee (CCPIT) and the Guangdong-HK-Macao Bay Area Entrepreneurs Union, will organise the fourth edition of the Sino-French South China Innovation Forum. \n\n中国法国工商会将与法国驻广州总领事馆、法国商务投资署及法国驻华贸易顾问团（CCEF）一起，并在广东省贸促会（CCPIT）和粤港澳大湾区企业家联盟的支持下，联合举办华南中法创新商业论坛。\n\n \n\nThe Sino-French South China Innovation Forum is a communication and networking platform designed to bring together French and Chinese enterprises, local governments, and public institutions to stimulate cooperation in South China.\n\n华南中法创新商业论坛是一个交流和沟通的平台，旨在汇聚中法企业、地方政府和公共机构，共同促进在华南地区的合作。\n\n \n\nThe Business Forum & Gala aim at showcasing examples of successful business cooperation between French and Chinese companies in the South China Area, as well as introducing innovative projects for the region.\n\n论坛和晚宴旨在展示中法企业在华南地区的成功商业合作案例，并介绍该地区的创新项目。\n\n \nDate 活动日期\n\nThursday, January 29th, 2026, from 1.30 PM  \n\n2026年1月29日，星期四, 下午1点半\n\nAgenda 活动议程\n\n\n\n\n\n\n\n\n\n\n\n\n\n\n\n\n\n\n\n\n\n\n\n\n\n\n\n\nVenue 活动地点\n\nThe Ritz-Carlton Guangzhou\n\n广州丽思卡尔顿酒店\n\n3 Xing An Road, Pearl River New City, Tianhe District, Guangzhou, Guangdong, China, 510623\n\n广州市天河区珠江新城兴安路3号\n\nQuestions? tcliu@audencia.com
BEGIN:VALARM
ACTION:DISPLAY
TRIGGER:-PT60M
DESCRIPTION:CCI FRANCE CHINE EVENT | Sino-French South China Innovation Forum 中法华南创新商业交流会
END:VALARM
END:VEVENT
END:VCALENDAR