BEGIN:VCALENDAR
VERSION:2.0
X-WR-TIMEZONE:Europe/Paris
PRODID:-//Audencia//NONSGML v1.0//EN
CALSCALE:GREGORIAN
BEGIN:VEVENT
SUMMARY:BARCELONA | Afterwork Networking with French Grandes Ecoles
DTSTART:20260310T190000
DTEND:20260310T220000
UID:2345
DTSTAMP:20260421T105156
LOCATION:IMPRFCTO Parallel Avinguda del Paral·lel, 104, 08015 Barcelona
DESCRIPTION:Following the success of our first afterwork with the Grandes Écoles Barcelona network, we are delighted to invite you to our next event:\n\n \n\n🥂 Afterwork Alumni Grandes Écoles Barcelona\n📅 Tuesday, March 10 from 7:00 PM onwards\n📍 IMPRFCTO Parallel (Avinguda del Parallel, 104)\n\n\n\nRegistrations:\n\n\n	\n	The participation fee is €10, which includes one drink and snacks.\n	\n	\n	Entry tickets are limited.\n	\n	\n	You may attend with a guest, even if they are not part of the network. In this case, the guest must also register via the link.\n	 \n	\n\n \n\nTo book your spot:\n1️⃣ Click on “Register” here on Together\n2️⃣ Complete your (& your guest) registration payment via the following link: https://www.essecalumni.com/fr/calendar/index/index?id=8308\n\n\n\nSchools participating:\nAudencia, Centrale Supélec, École Polytechnique, EDHEC, EM Lyon, ESSEC, HEC Paris, Sciences Po & Supaero.\n\n\n\n= Registrations are compulsory =\n\n\n\nQuestion? : nushad.merchant@audencia.com
BEGIN:VALARM
ACTION:DISPLAY
TRIGGER:-PT60M
DESCRIPTION:BARCELONA | Afterwork Networking with French Grandes Ecoles
END:VALARM
END:VEVENT
END:VCALENDAR