BEGIN:VCALENDAR
VERSION:2.0
X-WR-TIMEZONE:Europe/Paris
PRODID:-//Audencia//NONSGML v1.0//EN
CALSCALE:GREGORIAN
BEGIN:VEVENT
SUMMARY:CCI FRANCE CHINE EVENT | Shanghai Gala 2026
DTSTART:20260529T000000
DTEND:20260529T000000
UID:2364
DTSTAMP:20260423T003142
LOCATION:Shanghai
DESCRIPTION:\n \n\nEvery year, CCI FRANCE CHINE organises its GALA in Shanghai, Beijing and South China. As the largest annual event of the French and Chinese Business Community, in Shanghai the GALA gathers more than 900 guests from all industries, in presence of Officials, Executives, and Medias.\n\n \n\nThis year's GALA will take place on Friday, May 29th!\n\n \n\nThis prestigious event is a unique occasion to meet high-level leaders from the French and Chinese CCI FRANCE CHINE business communities in an exclusive atmosphere.\n\n \n\nStay connected for more information coming soon!
BEGIN:VALARM
ACTION:DISPLAY
TRIGGER:-PT60M
DESCRIPTION:CCI FRANCE CHINE EVENT | Shanghai Gala 2026
END:VALARM
END:VEVENT
END:VCALENDAR