BEGIN:VCALENDAR
VERSION:2.0
X-WR-TIMEZONE:Europe/Paris
PRODID:-//Audencia//NONSGML v1.0//EN
CALSCALE:GREGORIAN
BEGIN:VEVENT
SUMMARY:SYDNEY | European-Aussie drinks
DTSTART:20260423T173000
DTEND:20260423T203000
UID:2365
DTSTAMP:20260423T003208
LOCATION:Amora Hotel Jamison 11 Jamison Street Sydney
DESCRIPTION:Special German Edition – European Aussie Drinks\n\nWe are excited to announce our next event!\nWhere: Amora Hotel Jamison, 11 Jamison Street, Sydney\nWhen: Thursday 23 April 2026\nTime: from 5:30pm onwards\nFor this 𝗦𝗽𝗲𝗰𝗶𝗮𝗹 𝗚𝗲𝗿𝗺𝗮𝗻𝘆 𝗲𝗱𝗶𝘁𝗶𝗼𝗻, we are proud to partner with the German-Australian Chamber of Industry and Commerce, together with additional supporters from the German-Australian business community.\n\nFollowing our incredible Italy kickoff, we are continuing our 2026 journey across Europe, one country at a time, bringing together business professionals, entrepreneurs, diplomats and community leaders in a casual and welcoming setting.\n\nAs always, European Aussie Drinks is about:\n🤝 Meeting new people\n🌍 Connecting Europeans, Australians and global professionals\n💬 Creating a space for meaningful conversations\n✨ Doing business with human value at the centre\n\n👉 Register with your LinkedIn profile here!\n\nBis Bald!\n\nWe look forward to welcoming you for another fantastic evening.\n \nWhether you have German roots, business ties with Germany, or simply an interest in Europe... This evening is for you!\n \n
BEGIN:VALARM
ACTION:DISPLAY
TRIGGER:-PT60M
DESCRIPTION:SYDNEY | European-Aussie drinks
END:VALARM
END:VEVENT
END:VCALENDAR