BEGIN:VCALENDAR
VERSION:2.0
X-WR-TIMEZONE:Europe/Paris
PRODID:-//Audencia//NONSGML v1.0//EN
CALSCALE:GREGORIAN
BEGIN:VEVENT
SUMMARY:ONLINE | Slow Fashion Training avec Florence Touzé
DTSTART:20260430T110000
DTEND:20260430T130000
UID:2367
DTSTAMP:20260423T020547
LOCATION:
DESCRIPTION:Vous souhaitez vous inscrire à Slow Fashion Training by Audencia ?\n\n\nFlorence Touzé, professeure et enseignante-chercheuse à Audencia vous propose une session en ligne le 30 avril de 11h à 13h.\n \n\nQu'est ce que c'est ? Slow Fashion Training by Audencia, programme de la Chaire Impact Positif portée par la Fondation Audencia, vise à sensibiliser chacun à la mode responsable. \nComment ? En prenant conscience des impacts du secteur, en décryptant les comportements d'achat, et en découvrant des pratiques durables.\nL'objectif ? Que chacun participe à son échelle à l'effort collectif vers une mode raisonnée, et sache diffuser les bonnes informations.\nPour qui ? Toute personne souhaitant agir en faveur d'une mode plus durable\n\n \n\nFlorence Touzé-Rieu est enseignante-chercheuse à Audencia, titulaire de la Chaire Impact Positif et responsable des programmes Communication et Expérience de marque à SciencesCom. Ses travaux portent sur la transformation des entreprises vers des modèles durables et sur le rôle des marques dans la construction d’imaginaires soutenables. Intervenante reconnue, notamment dans la mode et l’agroalimentaire, elle est aussi auteure de plusieurs ouvrages et articles de référence.\n \n\n🚨 Evénement gratuit | Nombre de places limité | Inscription obligatoire 🚨\n \nVous n'êtes pas disponible ? N'hésitez pas à vous inscrire pour recevoir les invitations aux prochaines sessions (par ici).\n 
BEGIN:VALARM
ACTION:DISPLAY
TRIGGER:-PT60M
DESCRIPTION:ONLINE | Slow Fashion Training avec Florence Touzé
END:VALARM
END:VEVENT
END:VCALENDAR