BEGIN:VCALENDAR
VERSION:2.0
X-WR-TIMEZONE:Europe/Paris
PRODID:-//Audencia//NONSGML v1.0//EN
CALSCALE:GREGORIAN
BEGIN:VEVENT
SUMMARY:WEBINAR | How to work with an AI career coach
DTSTART:20260521T170000
DTEND:20260521T180000
UID:2371
DTSTAMP:20260423T003143
LOCATION:
DESCRIPTION:DATE: Thursday 21 May 2026\nTIME: 17:00 to 18:00 Paris time\n\nMost people realise that ChatGPT can churn out cover letters and CV bullet points. What is less understood is how well large language models can work as a career strategist: exploring decisions, brainstorming options, and drawing on an extraordinary depth of knowledge about different roles, industries and careers.\n\nIn this practical session, Jeremy Schifeling (former education lead at LinkedIn and AI career expert) will show how to use LLMs to explore pathways and directions, identify opportunities and stand out from the competition.\n\nWe will discuss:\n\n\n	The AI trap undermining half of job applications\n	Why prompts matter less than uploads\n	How to use LLM research to stand out at interviews\n	How to research roles, industries, and companies in minutes (not hours)\n	How ChatGPT can help you to sound like an industry insider\n	How to use AI to identify hidden job options you may not have considered\n\n\n\nWe will also release the results of our survey on AI use in alumni communities. Everyone who registers will have the chance to participate.\n \n\n \n\n\n\n \n\n REGISTRATION\nWe have 100 free tickets for Audencia's alumni and students\n(use code "AUD-student" if the ticket does not show)\n\n \n\n\nAbout our speaker:\n\n\nJeremy Schifeling is a career development speaker and author with a 20-year track record of helping students launch amazing careers. He has published best-selling books on LinkedIn and ChatGPT for careers.  He served as a career coach for MBAs at the University of Michigan and military veterans at Shift.org; led AI + LinkedIn trainings for students and alumni at over 250 organizations from Cambridge to the Canadian Olympic Committee as well as leading marketing for LinkedIn's student products, where he doubled the number of students and recent grads on the platform to 39M and produced the company's most-watched YouTube video (5M views and counting)\n\n\nAUDENCIA's WEBINAR LIBRARY\nUnlimited access for Audencia students and alumni\n \nWe are delighted to offer all Audencia students and alumni access to a library of careers webinars featuring world-class management thinkers like Steve Dalton, Dorie Clark, Daniel Porot and more.\n\nAll Audencia alumni and students now have unlimited access to the portal which includes:\n\n	Advice on, job-hunting and interviewing, international and portfolio careers and how to be a better boss\n	Videos optimised for mobiles and tablets\n	Unlimited – free online access to all Audencia students and alumni\n\n \n\nRegister for your individual account here
BEGIN:VALARM
ACTION:DISPLAY
TRIGGER:-PT60M
DESCRIPTION:WEBINAR | How to work with an AI career coach
END:VALARM
END:VEVENT
END:VCALENDAR